BEGIN:VCALENDAR
VERSION:2.0
PRODID:-//Nokkenwiel - ECPv6.15.20//NONSGML v1.0//EN
CALSCALE:GREGORIAN
METHOD:PUBLISH
X-WR-CALNAME:Nokkenwiel
X-ORIGINAL-URL:https://nokkenwiel.nl
X-WR-CALDESC:Evenementen voor Nokkenwiel
REFRESH-INTERVAL;VALUE=DURATION:PT1H
X-Robots-Tag:noindex
X-PUBLISHED-TTL:PT1H
BEGIN:VTIMEZONE
TZID:Europe/Amsterdam
BEGIN:DAYLIGHT
TZOFFSETFROM:+0100
TZOFFSETTO:+0200
TZNAME:CEST
DTSTART:20230326T010000
END:DAYLIGHT
BEGIN:STANDARD
TZOFFSETFROM:+0200
TZOFFSETTO:+0100
TZNAME:CET
DTSTART:20231029T010000
END:STANDARD
BEGIN:DAYLIGHT
TZOFFSETFROM:+0100
TZOFFSETTO:+0200
TZNAME:CEST
DTSTART:20240331T010000
END:DAYLIGHT
BEGIN:STANDARD
TZOFFSETFROM:+0200
TZOFFSETTO:+0100
TZNAME:CET
DTSTART:20241027T010000
END:STANDARD
BEGIN:DAYLIGHT
TZOFFSETFROM:+0100
TZOFFSETTO:+0200
TZNAME:CEST
DTSTART:20250330T010000
END:DAYLIGHT
BEGIN:STANDARD
TZOFFSETFROM:+0200
TZOFFSETTO:+0100
TZNAME:CET
DTSTART:20251026T010000
END:STANDARD
END:VTIMEZONE
BEGIN:VEVENT
DTSTART;VALUE=DATE:20240429
DTEND;VALUE=DATE:20240513
DTSTAMP:20260421T184022
CREATED:20231103T100158Z
LAST-MODIFIED:20231103T100408Z
UID:1873-1714348800-1715558399@nokkenwiel.nl
SUMMARY:Meivakantie
DESCRIPTION:
URL:https://nokkenwiel.nl/agenda/meivakantie/
END:VEVENT
BEGIN:VEVENT
DTSTART;VALUE=DATE:20240505
DTEND;VALUE=DATE:20240506
DTSTAMP:20260421T184022
CREATED:20231103T102351Z
LAST-MODIFIED:20231103T102351Z
UID:1935-1714867200-1714953599@nokkenwiel.nl
SUMMARY:Bevrijdingsdag
DESCRIPTION:
URL:https://nokkenwiel.nl/agenda/bevrijdingsdag/
END:VEVENT
END:VCALENDAR