BEGIN:VCALENDAR
VERSION:2.0
PRODID:-//Nokkenwiel - ECPv6.15.20//NONSGML v1.0//EN
CALSCALE:GREGORIAN
METHOD:PUBLISH
X-WR-CALNAME:Nokkenwiel
X-ORIGINAL-URL:https://nokkenwiel.nl
X-WR-CALDESC:Evenementen voor Nokkenwiel
REFRESH-INTERVAL;VALUE=DURATION:PT1H
X-Robots-Tag:noindex
X-PUBLISHED-TTL:PT1H
BEGIN:VTIMEZONE
TZID:Europe/Amsterdam
BEGIN:DAYLIGHT
TZOFFSETFROM:+0100
TZOFFSETTO:+0200
TZNAME:CEST
DTSTART:20240331T010000
END:DAYLIGHT
BEGIN:STANDARD
TZOFFSETFROM:+0200
TZOFFSETTO:+0100
TZNAME:CET
DTSTART:20241027T010000
END:STANDARD
BEGIN:DAYLIGHT
TZOFFSETFROM:+0100
TZOFFSETTO:+0200
TZNAME:CEST
DTSTART:20250330T010000
END:DAYLIGHT
BEGIN:STANDARD
TZOFFSETFROM:+0200
TZOFFSETTO:+0100
TZNAME:CET
DTSTART:20251026T010000
END:STANDARD
BEGIN:DAYLIGHT
TZOFFSETFROM:+0100
TZOFFSETTO:+0200
TZNAME:CEST
DTSTART:20260329T010000
END:DAYLIGHT
BEGIN:STANDARD
TZOFFSETFROM:+0200
TZOFFSETTO:+0100
TZNAME:CET
DTSTART:20261025T010000
END:STANDARD
END:VTIMEZONE
BEGIN:VEVENT
DTSTART;VALUE=DATE:20250418
DTEND;VALUE=DATE:20250506
DTSTAMP:20260420T235241
CREATED:20240704T085853Z
LAST-MODIFIED:20240704T085853Z
UID:2202-1744934400-1746489599@nokkenwiel.nl
SUMMARY:Meivakantie
DESCRIPTION:BSO/KDV/PSG in de vakantie open
URL:https://nokkenwiel.nl/agenda/mr-oc-2-2-3/
END:VEVENT
BEGIN:VEVENT
DTSTART;VALUE=DATE:20250505
DTEND;VALUE=DATE:20250506
DTSTAMP:20260420T235241
CREATED:20240704T090034Z
LAST-MODIFIED:20240704T090034Z
UID:2206-1746403200-1746489599@nokkenwiel.nl
SUMMARY:Bevrijdingsdag
DESCRIPTION:Opvang gesloten
URL:https://nokkenwiel.nl/agenda/mr-oc-2-2-7/
END:VEVENT
END:VCALENDAR