BEGIN:VCALENDAR
VERSION:2.0
PRODID:-//Nokkenwiel - ECPv6.15.20//NONSGML v1.0//EN
CALSCALE:GREGORIAN
METHOD:PUBLISH
X-WR-CALNAME:Nokkenwiel
X-ORIGINAL-URL:https://nokkenwiel.nl
X-WR-CALDESC:Evenementen voor Nokkenwiel
REFRESH-INTERVAL;VALUE=DURATION:PT1H
X-Robots-Tag:noindex
X-PUBLISHED-TTL:PT1H
BEGIN:VTIMEZONE
TZID:Europe/Amsterdam
BEGIN:DAYLIGHT
TZOFFSETFROM:+0100
TZOFFSETTO:+0200
TZNAME:CEST
DTSTART:20240331T010000
END:DAYLIGHT
BEGIN:STANDARD
TZOFFSETFROM:+0200
TZOFFSETTO:+0100
TZNAME:CET
DTSTART:20241027T010000
END:STANDARD
BEGIN:DAYLIGHT
TZOFFSETFROM:+0100
TZOFFSETTO:+0200
TZNAME:CEST
DTSTART:20250330T010000
END:DAYLIGHT
BEGIN:STANDARD
TZOFFSETFROM:+0200
TZOFFSETTO:+0100
TZNAME:CET
DTSTART:20251026T010000
END:STANDARD
BEGIN:DAYLIGHT
TZOFFSETFROM:+0100
TZOFFSETTO:+0200
TZNAME:CEST
DTSTART:20260329T010000
END:DAYLIGHT
BEGIN:STANDARD
TZOFFSETFROM:+0200
TZOFFSETTO:+0100
TZNAME:CET
DTSTART:20261025T010000
END:STANDARD
END:VTIMEZONE
BEGIN:VEVENT
DTSTART;VALUE=DATE:20250707
DTEND;VALUE=DATE:20250708
DTSTAMP:20260421T012311
CREATED:20240704T092339Z
LAST-MODIFIED:20240704T092339Z
UID:2262-1751846400-1751932799@nokkenwiel.nl
SUMMARY:MR
DESCRIPTION:
URL:https://nokkenwiel.nl/agenda/mr-oc-2-2-7-9-2-10-2-2/
END:VEVENT
BEGIN:VEVENT
DTSTART;VALUE=DATE:20250704
DTEND;VALUE=DATE:20250705
DTSTAMP:20260421T012311
CREATED:20240704T092236Z
LAST-MODIFIED:20240704T092236Z
UID:2260-1751587200-1751673599@nokkenwiel.nl
SUMMARY:Leerlingenraad
DESCRIPTION:
URL:https://nokkenwiel.nl/agenda/mr-oc-2-2-7-9-2-10-2/
END:VEVENT
BEGIN:VEVENT
DTSTART;VALUE=DATE:20250630
DTEND;VALUE=DATE:20250705
DTSTAMP:20260421T012311
CREATED:20240704T092100Z
LAST-MODIFIED:20240704T092100Z
UID:2246-1751241600-1751673599@nokkenwiel.nl
SUMMARY:Deze week facultatieve rapportgesprekken
DESCRIPTION:
URL:https://nokkenwiel.nl/agenda/mr-oc-2-2-7-9-2-11/
END:VEVENT
BEGIN:VEVENT
DTSTART;VALUE=DATE:20250627
DTEND;VALUE=DATE:20250628
DTSTAMP:20260421T012311
CREATED:20240704T092026Z
LAST-MODIFIED:20240704T092026Z
UID:2245-1750982400-1751068799@nokkenwiel.nl
SUMMARY:Tweede rapport mee
DESCRIPTION:
URL:https://nokkenwiel.nl/agenda/mr-oc-2-2-7-9-2-10/
END:VEVENT
BEGIN:VEVENT
DTSTART;VALUE=DATE:20250627
DTEND;VALUE=DATE:20250628
DTSTAMP:20260421T012311
CREATED:20240704T092012Z
LAST-MODIFIED:20240704T092012Z
UID:2244-1750982400-1751068799@nokkenwiel.nl
SUMMARY:Nieuwsbrief 11
DESCRIPTION:
URL:https://nokkenwiel.nl/agenda/mr-oc-2-2-7-9-2-9/
END:VEVENT
BEGIN:VEVENT
DTSTART;VALUE=DATE:20250620
DTEND;VALUE=DATE:20250621
DTSTAMP:20260421T012311
CREATED:20240704T091959Z
LAST-MODIFIED:20240704T091959Z
UID:2243-1750377600-1750463999@nokkenwiel.nl
SUMMARY:Einde afname CITO
DESCRIPTION:
URL:https://nokkenwiel.nl/agenda/mr-oc-2-2-7-9-2-8/
END:VEVENT
BEGIN:VEVENT
DTSTART;VALUE=DATE:20250616
DTEND;VALUE=DATE:20250620
DTSTAMP:20260421T012311
CREATED:20240704T091943Z
LAST-MODIFIED:20240704T091943Z
UID:2242-1750032000-1750377599@nokkenwiel.nl
SUMMARY:Avondvierdaagse
DESCRIPTION:
URL:https://nokkenwiel.nl/agenda/mr-oc-2-2-7-9-2-7/
END:VEVENT
BEGIN:VEVENT
DTSTART;VALUE=DATE:20250615
DTEND;VALUE=DATE:20250616
DTSTAMP:20260421T012311
CREATED:20240704T091919Z
LAST-MODIFIED:20240704T091929Z
UID:2241-1749945600-1750031999@nokkenwiel.nl
SUMMARY:Vaderdag
DESCRIPTION:
URL:https://nokkenwiel.nl/agenda/mr-oc-2-2-7-9-2-6/
END:VEVENT
BEGIN:VEVENT
DTSTART;VALUE=DATE:20250610
DTEND;VALUE=DATE:20250611
DTSTAMP:20260421T012311
CREATED:20240704T091903Z
LAST-MODIFIED:20240704T091909Z
UID:2240-1749513600-1749599999@nokkenwiel.nl
SUMMARY:Studiedag
DESCRIPTION:Alle kinderen zijn vrij \nOpvang open
URL:https://nokkenwiel.nl/agenda/mr-oc-2-2-7-9-2-5/
END:VEVENT
BEGIN:VEVENT
DTSTART;VALUE=DATE:20250609
DTEND;VALUE=DATE:20250610
DTSTAMP:20260421T012311
CREATED:20240704T091841Z
LAST-MODIFIED:20240704T091841Z
UID:2239-1749427200-1749513599@nokkenwiel.nl
SUMMARY:Tweede Pinkesterdag
DESCRIPTION:Opvang gesloten
URL:https://nokkenwiel.nl/agenda/mr-oc-2-2-7-9-2-4/
END:VEVENT
BEGIN:VEVENT
DTSTART;VALUE=DATE:20250608
DTEND;VALUE=DATE:20250609
DTSTAMP:20260421T012311
CREATED:20240704T091812Z
LAST-MODIFIED:20240704T091812Z
UID:2238-1749340800-1749427199@nokkenwiel.nl
SUMMARY:Eerste Pinksterdag
DESCRIPTION:
URL:https://nokkenwiel.nl/agenda/mr-oc-2-2-7-9-2-3/
END:VEVENT
BEGIN:VEVENT
DTSTART;VALUE=DATE:20250604
DTEND;VALUE=DATE:20250605
DTSTAMP:20260421T012311
CREATED:20240704T091756Z
LAST-MODIFIED:20240704T091756Z
UID:2237-1748995200-1749081599@nokkenwiel.nl
SUMMARY:Schoolvoetbaltoernooi groepen 7 en 8
DESCRIPTION:
URL:https://nokkenwiel.nl/agenda/mr-oc-2-2-7-9-2-2/
END:VEVENT
BEGIN:VEVENT
DTSTART;VALUE=DATE:20250602
DTEND;VALUE=DATE:20250603
DTSTAMP:20260421T012311
CREATED:20240704T092122Z
LAST-MODIFIED:20240704T092122Z
UID:2247-1748822400-1748908799@nokkenwiel.nl
SUMMARY:MR
DESCRIPTION:
URL:https://nokkenwiel.nl/agenda/mr-oc-2-2-7-9-2-12/
END:VEVENT
BEGIN:VEVENT
DTSTART;VALUE=DATE:20250602
DTEND;VALUE=DATE:20250603
DTSTAMP:20260421T012311
CREATED:20240704T091705Z
LAST-MODIFIED:20240704T092157Z
UID:2235-1748822400-1748908799@nokkenwiel.nl
SUMMARY:Start afname CITO
DESCRIPTION:
URL:https://nokkenwiel.nl/agenda/mr-oc-2-2-7-9-2/
END:VEVENT
BEGIN:VEVENT
DTSTART;VALUE=DATE:20250530
DTEND;VALUE=DATE:20250531
DTSTAMP:20260421T012311
CREATED:20240704T090428Z
LAST-MODIFIED:20240704T090436Z
UID:2220-1748563200-1748649599@nokkenwiel.nl
SUMMARY:Extra vrije dag
DESCRIPTION:BSO/KDV/PSG open
URL:https://nokkenwiel.nl/agenda/mr-oc-2-2-7-9/
END:VEVENT
BEGIN:VEVENT
DTSTART;VALUE=DATE:20250529
DTEND;VALUE=DATE:20250530
DTSTAMP:20260421T012311
CREATED:20240704T090345Z
LAST-MODIFIED:20240704T090401Z
UID:2219-1748476800-1748563199@nokkenwiel.nl
SUMMARY:Hemelvaartsdag
DESCRIPTION:De kinderen zijn vrij
URL:https://nokkenwiel.nl/agenda/mr-oc-2-2-7-8/
END:VEVENT
BEGIN:VEVENT
DTSTART;VALUE=DATE:20250528
DTEND;VALUE=DATE:20250529
DTSTAMP:20260421T012311
CREATED:20240704T090323Z
LAST-MODIFIED:20240704T090551Z
UID:2218-1748390400-1748476799@nokkenwiel.nl
SUMMARY:Nieuwsbrief 10
DESCRIPTION:
URL:https://nokkenwiel.nl/agenda/mr-oc-2-2-7-7/
END:VEVENT
BEGIN:VEVENT
DTSTART;VALUE=DATE:20250528
DTEND;VALUE=DATE:20250529
DTSTAMP:20260421T012311
CREATED:20240704T090311Z
LAST-MODIFIED:20240704T090546Z
UID:2217-1748390400-1748476799@nokkenwiel.nl
SUMMARY:Schoolreis groepen 1 t/m 7
DESCRIPTION:
URL:https://nokkenwiel.nl/agenda/mr-oc-2-2-7-6/
END:VEVENT
BEGIN:VEVENT
DTSTART;VALUE=DATE:20250523
DTEND;VALUE=DATE:20250524
DTSTAMP:20260421T012311
CREATED:20240704T090248Z
LAST-MODIFIED:20240704T090511Z
UID:2216-1747958400-1748044799@nokkenwiel.nl
SUMMARY:Leerlingenraad
DESCRIPTION:
URL:https://nokkenwiel.nl/agenda/mr-oc-2-2-7-5/
END:VEVENT
BEGIN:VEVENT
DTSTART;VALUE=DATE:20250521
DTEND;VALUE=DATE:20250522
DTSTAMP:20260421T012311
CREATED:20240704T090232Z
LAST-MODIFIED:20240704T090505Z
UID:2215-1747785600-1747871999@nokkenwiel.nl
SUMMARY:Schoolvoetbaltournooi groepen 5 en 6
DESCRIPTION:
URL:https://nokkenwiel.nl/agenda/mr-oc-2-2-7-4/
END:VEVENT
BEGIN:VEVENT
DTSTART;VALUE=DATE:20250511
DTEND;VALUE=DATE:20250512
DTSTAMP:20260421T012311
CREATED:20240704T090211Z
LAST-MODIFIED:20240704T090502Z
UID:2214-1746921600-1747007999@nokkenwiel.nl
SUMMARY:Moederdag
DESCRIPTION:
URL:https://nokkenwiel.nl/agenda/mr-oc-2-2-7-3/
END:VEVENT
BEGIN:VEVENT
DTSTART;VALUE=DATE:20250507
DTEND;VALUE=DATE:20250510
DTSTAMP:20260421T012311
CREATED:20240704T090200Z
LAST-MODIFIED:20240704T090457Z
UID:2213-1746576000-1746835199@nokkenwiel.nl
SUMMARY:Kamp groepen 8
DESCRIPTION:
URL:https://nokkenwiel.nl/agenda/mr-oc-2-2-7-2/
END:VEVENT
BEGIN:VEVENT
DTSTART;VALUE=DATE:20250505
DTEND;VALUE=DATE:20250506
DTSTAMP:20260421T012311
CREATED:20240704T090034Z
LAST-MODIFIED:20240704T090034Z
UID:2206-1746403200-1746489599@nokkenwiel.nl
SUMMARY:Bevrijdingsdag
DESCRIPTION:Opvang gesloten
URL:https://nokkenwiel.nl/agenda/mr-oc-2-2-7/
END:VEVENT
BEGIN:VEVENT
DTSTART;VALUE=DATE:20250421
DTEND;VALUE=DATE:20250422
DTSTAMP:20260421T012311
CREATED:20240704T085958Z
LAST-MODIFIED:20240704T090007Z
UID:2205-1745193600-1745279999@nokkenwiel.nl
SUMMARY:Tweede Paasdag
DESCRIPTION:Opvang gesloten
URL:https://nokkenwiel.nl/agenda/mr-oc-2-2-6/
END:VEVENT
BEGIN:VEVENT
DTSTART;VALUE=DATE:20250420
DTEND;VALUE=DATE:20250421
DTSTAMP:20260421T012311
CREATED:20240704T085936Z
LAST-MODIFIED:20240704T085936Z
UID:2204-1745107200-1745193599@nokkenwiel.nl
SUMMARY:Eerste Paasdag
DESCRIPTION:
URL:https://nokkenwiel.nl/agenda/mr-oc-2-2-5/
END:VEVENT
BEGIN:VEVENT
DTSTART;VALUE=DATE:20250418
DTEND;VALUE=DATE:20250419
DTSTAMP:20260421T012311
CREATED:20240704T085920Z
LAST-MODIFIED:20240704T085920Z
UID:2203-1744934400-1745020799@nokkenwiel.nl
SUMMARY:Goede Vrijdag
DESCRIPTION:BSO/KD/PSG open
URL:https://nokkenwiel.nl/agenda/mr-oc-2-2-4/
END:VEVENT
BEGIN:VEVENT
DTSTART;VALUE=DATE:20250418
DTEND;VALUE=DATE:20250506
DTSTAMP:20260421T012311
CREATED:20240704T085853Z
LAST-MODIFIED:20240704T085853Z
UID:2202-1744934400-1746489599@nokkenwiel.nl
SUMMARY:Meivakantie
DESCRIPTION:BSO/KDV/PSG in de vakantie open
URL:https://nokkenwiel.nl/agenda/mr-oc-2-2-3/
END:VEVENT
BEGIN:VEVENT
DTSTART;VALUE=DATE:20250417
DTEND;VALUE=DATE:20250418
DTSTAMP:20260421T012311
CREATED:20240704T085638Z
LAST-MODIFIED:20240704T085638Z
UID:2201-1744848000-1744934399@nokkenwiel.nl
SUMMARY:Nieuwsbrief 9
DESCRIPTION:
URL:https://nokkenwiel.nl/agenda/mr-oc-2-2-2/
END:VEVENT
BEGIN:VEVENT
DTSTART;VALUE=DATE:20250417
DTEND;VALUE=DATE:20250418
DTSTAMP:20260421T012311
CREATED:20240704T085536Z
LAST-MODIFIED:20240704T085536Z
UID:2199-1744848000-1744934399@nokkenwiel.nl
SUMMARY:Lenteontbijt
DESCRIPTION:
URL:https://nokkenwiel.nl/agenda/mr-oc-2-2/
END:VEVENT
BEGIN:VEVENT
DTSTART;VALUE=DATE:20250331
DTEND;VALUE=DATE:20250401
DTSTAMP:20260421T012311
CREATED:20240704T085428Z
LAST-MODIFIED:20240704T085428Z
UID:2197-1743379200-1743465599@nokkenwiel.nl
SUMMARY:MR/OC
DESCRIPTION:
URL:https://nokkenwiel.nl/agenda/mr-oc-2/
END:VEVENT
END:VCALENDAR