BEGIN:VCALENDAR
VERSION:2.0
PRODID:-//Nokkenwiel - ECPv6.15.20//NONSGML v1.0//EN
CALSCALE:GREGORIAN
METHOD:PUBLISH
X-WR-CALNAME:Nokkenwiel
X-ORIGINAL-URL:https://nokkenwiel.nl
X-WR-CALDESC:Evenementen voor Nokkenwiel
REFRESH-INTERVAL;VALUE=DURATION:PT1H
X-Robots-Tag:noindex
X-PUBLISHED-TTL:PT1H
BEGIN:VTIMEZONE
TZID:Europe/Amsterdam
BEGIN:DAYLIGHT
TZOFFSETFROM:+0100
TZOFFSETTO:+0200
TZNAME:CEST
DTSTART:20240331T010000
END:DAYLIGHT
BEGIN:STANDARD
TZOFFSETFROM:+0200
TZOFFSETTO:+0100
TZNAME:CET
DTSTART:20241027T010000
END:STANDARD
BEGIN:DAYLIGHT
TZOFFSETFROM:+0100
TZOFFSETTO:+0200
TZNAME:CEST
DTSTART:20250330T010000
END:DAYLIGHT
BEGIN:STANDARD
TZOFFSETFROM:+0200
TZOFFSETTO:+0100
TZNAME:CET
DTSTART:20251026T010000
END:STANDARD
BEGIN:DAYLIGHT
TZOFFSETFROM:+0100
TZOFFSETTO:+0200
TZNAME:CEST
DTSTART:20260329T010000
END:DAYLIGHT
BEGIN:STANDARD
TZOFFSETFROM:+0200
TZOFFSETTO:+0100
TZNAME:CET
DTSTART:20261025T010000
END:STANDARD
BEGIN:DAYLIGHT
TZOFFSETFROM:+0100
TZOFFSETTO:+0200
TZNAME:CEST
DTSTART:20270328T010000
END:DAYLIGHT
BEGIN:STANDARD
TZOFFSETFROM:+0200
TZOFFSETTO:+0100
TZNAME:CET
DTSTART:20271031T010000
END:STANDARD
END:VTIMEZONE
BEGIN:VEVENT
DTSTART;VALUE=DATE:20260112
DTEND;VALUE=DATE:20260113
DTSTAMP:20260420T162334
CREATED:20250627T075813Z
LAST-MODIFIED:20250627T075813Z
UID:2485-1768176000-1768262399@nokkenwiel.nl
SUMMARY:Start afname CITO
DESCRIPTION:
URL:https://nokkenwiel.nl/agenda/start-afname-cito-3/
END:VEVENT
BEGIN:VEVENT
DTSTART;VALUE=DATE:20260101
DTEND;VALUE=DATE:20260102
DTSTAMP:20260420T162334
CREATED:20250627T075723Z
LAST-MODIFIED:20250627T075723Z
UID:2484-1767225600-1767311999@nokkenwiel.nl
SUMMARY:Nieuwjaarsdag
DESCRIPTION:
URL:https://nokkenwiel.nl/agenda/nieuwjaarsdag/
END:VEVENT
BEGIN:VEVENT
DTSTART;VALUE=DATE:20251231
DTEND;VALUE=DATE:20260101
DTSTAMP:20260420T162334
CREATED:20250627T075657Z
LAST-MODIFIED:20250627T075657Z
UID:2483-1767139200-1767225599@nokkenwiel.nl
SUMMARY:Oudjaarsavond
DESCRIPTION:
URL:https://nokkenwiel.nl/agenda/oudjaarsavond/
END:VEVENT
BEGIN:VEVENT
DTSTART;VALUE=DATE:20251226
DTEND;VALUE=DATE:20251227
DTSTAMP:20260420T162334
CREATED:20250627T075639Z
LAST-MODIFIED:20250627T075639Z
UID:2476-1766707200-1766793599@nokkenwiel.nl
SUMMARY:Tweede Kerstdag
DESCRIPTION:
URL:https://nokkenwiel.nl/agenda/tweede-kerstdag-2/
END:VEVENT
BEGIN:VEVENT
DTSTART;VALUE=DATE:20251225
DTEND;VALUE=DATE:20251226
DTSTAMP:20260420T162334
CREATED:20250627T075632Z
LAST-MODIFIED:20250627T075632Z
UID:2475-1766620800-1766707199@nokkenwiel.nl
SUMMARY:Eerste Kerstdag
DESCRIPTION:
URL:https://nokkenwiel.nl/agenda/eerste-kerstdag-5/
END:VEVENT
BEGIN:VEVENT
DTSTART;VALUE=DATE:20251222
DTEND;VALUE=DATE:20260105
DTSTAMP:20260420T162334
CREATED:20250627T075558Z
LAST-MODIFIED:20250627T075558Z
UID:2474-1766361600-1767571199@nokkenwiel.nl
SUMMARY:Kerstvakantie
DESCRIPTION:
URL:https://nokkenwiel.nl/agenda/kerstvakantie-2/
END:VEVENT
BEGIN:VEVENT
DTSTART;VALUE=DATE:20251219
DTEND;VALUE=DATE:20251220
DTSTAMP:20260420T162334
CREATED:20250627T075513Z
LAST-MODIFIED:20250627T075513Z
UID:2473-1766102400-1766188799@nokkenwiel.nl
SUMMARY:Middag vrij vanaf 12:30 uur
DESCRIPTION:
URL:https://nokkenwiel.nl/agenda/middag-vrij-vanaf-1230-uur/
END:VEVENT
BEGIN:VEVENT
DTSTART;VALUE=DATE:20251219
DTEND;VALUE=DATE:20251220
DTSTAMP:20260420T162334
CREATED:20250627T075505Z
LAST-MODIFIED:20250627T075505Z
UID:2472-1766102400-1766188799@nokkenwiel.nl
SUMMARY:Nieuwsbrief 5
DESCRIPTION:
URL:https://nokkenwiel.nl/agenda/nieuwsbrief-5-2/
END:VEVENT
BEGIN:VEVENT
DTSTART;VALUE=DATE:20251218
DTEND;VALUE=DATE:20251219
DTSTAMP:20260420T162334
CREATED:20250627T075426Z
LAST-MODIFIED:20250627T075426Z
UID:2471-1766016000-1766102399@nokkenwiel.nl
SUMMARY:Kerstviering
DESCRIPTION:
URL:https://nokkenwiel.nl/agenda/kerstviering-3/
END:VEVENT
BEGIN:VEVENT
DTSTART;VALUE=DATE:20251209
DTEND;VALUE=DATE:20251210
DTSTAMP:20260420T162334
CREATED:20250627T075201Z
LAST-MODIFIED:20250627T075339Z
UID:2465-1765238400-1765324799@nokkenwiel.nl
SUMMARY:Maasplein: Knutselcircuit Kerst in de middag
DESCRIPTION:
URL:https://nokkenwiel.nl/agenda/maasplein-knutselcircuit-kerst-in-de-middag/
END:VEVENT
BEGIN:VEVENT
DTSTART;VALUE=DATE:20251208
DTEND;VALUE=DATE:20251209
DTSTAMP:20260420T162334
CREATED:20250627T075152Z
LAST-MODIFIED:20250627T075152Z
UID:2464-1765152000-1765238399@nokkenwiel.nl
SUMMARY:Boerenpad: Knutselcircuit Kerst in de middag
DESCRIPTION:
URL:https://nokkenwiel.nl/agenda/boerenpad-knutselcircuit-kerst-in-de-middag/
END:VEVENT
BEGIN:VEVENT
DTSTART;VALUE=DATE:20251205
DTEND;VALUE=DATE:20251206
DTSTAMP:20260420T162334
CREATED:20250627T075145Z
LAST-MODIFIED:20250627T075145Z
UID:2463-1764892800-1764979199@nokkenwiel.nl
SUMMARY:Sinterklaasviering - Middag vrij vanaf 12:30 uur
DESCRIPTION:
URL:https://nokkenwiel.nl/agenda/sinterklaasviering-middag-vrij-vanaf-1230-uur-2/
END:VEVENT
BEGIN:VEVENT
DTSTART;VALUE=DATE:20251128
DTEND;VALUE=DATE:20251129
DTSTAMP:20260420T162334
CREATED:20250627T075025Z
LAST-MODIFIED:20250627T075025Z
UID:2462-1764288000-1764374399@nokkenwiel.nl
SUMMARY:Nieuwsbrief 4
DESCRIPTION:
URL:https://nokkenwiel.nl/agenda/nieuwsbrief-4-3/
END:VEVENT
BEGIN:VEVENT
DTSTART;VALUE=DATE:20251124
DTEND;VALUE=DATE:20251125
DTSTAMP:20260420T162334
CREATED:20250627T075020Z
LAST-MODIFIED:20250627T075020Z
UID:2461-1763942400-1764028799@nokkenwiel.nl
SUMMARY:MR + OC
DESCRIPTION:
URL:https://nokkenwiel.nl/agenda/mr-oc-3/
END:VEVENT
BEGIN:VEVENT
DTSTART;VALUE=DATE:20251121
DTEND;VALUE=DATE:20251122
DTSTAMP:20260420T162334
CREATED:20250627T074939Z
LAST-MODIFIED:20250627T074939Z
UID:2455-1763683200-1763769599@nokkenwiel.nl
SUMMARY:Knutselcircuit Sinterklaas in de middag
DESCRIPTION:
URL:https://nokkenwiel.nl/agenda/knutselcircuit-sinterklaas-in-de-middag-3/
END:VEVENT
BEGIN:VEVENT
DTSTART;VALUE=DATE:20251118
DTEND;VALUE=DATE:20251119
DTSTAMP:20260420T162334
CREATED:20250627T074921Z
LAST-MODIFIED:20250627T074921Z
UID:2454-1763424000-1763510399@nokkenwiel.nl
SUMMARY:Lootjes trekken (groepen 5-8)
DESCRIPTION:
URL:https://nokkenwiel.nl/agenda/lootjes-trekken-groepen-5-8-2/
END:VEVENT
BEGIN:VEVENT
DTSTART;VALUE=DATE:20251117
DTEND;VALUE=DATE:20251118
DTSTAMP:20260420T162334
CREATED:20250627T074901Z
LAST-MODIFIED:20250627T074901Z
UID:2453-1763337600-1763423999@nokkenwiel.nl
SUMMARY:Studiedag
DESCRIPTION:Alle kinderen zijn vrij
URL:https://nokkenwiel.nl/agenda/studiedag-4/
END:VEVENT
BEGIN:VEVENT
DTSTART;VALUE=DATE:20251115
DTEND;VALUE=DATE:20251116
DTSTAMP:20260420T162334
CREATED:20250627T074843Z
LAST-MODIFIED:20250627T074843Z
UID:2452-1763164800-1763251199@nokkenwiel.nl
SUMMARY:Intocht Sinterklaas
DESCRIPTION:
URL:https://nokkenwiel.nl/agenda/intocht-sinterklaas-3/
END:VEVENT
BEGIN:VEVENT
DTSTART;VALUE=DATE:20251114
DTEND;VALUE=DATE:20251115
DTSTAMP:20260420T162334
CREATED:20250627T074831Z
LAST-MODIFIED:20250627T074831Z
UID:2451-1763078400-1763164799@nokkenwiel.nl
SUMMARY:Lootjes mee naar huis (groepen 5-8)
DESCRIPTION:
URL:https://nokkenwiel.nl/agenda/lootjes-mee-naar-huis-groepen-5-8/
END:VEVENT
BEGIN:VEVENT
DTSTART;VALUE=DATE:20251110
DTEND;VALUE=DATE:20251115
DTSTAMP:20260420T162334
CREATED:20250627T074707Z
LAST-MODIFIED:20250627T074707Z
UID:2449-1762732800-1763164799@nokkenwiel.nl
SUMMARY:Week van de mediawijsheid
DESCRIPTION:
URL:https://nokkenwiel.nl/agenda/week-van-de-mediawijsheid-2/
END:VEVENT
BEGIN:VEVENT
DTSTART;VALUE=DATE:20251103
DTEND;VALUE=DATE:20251104
DTSTAMP:20260420T162334
CREATED:20250627T074628Z
LAST-MODIFIED:20250627T074628Z
UID:2443-1762128000-1762214399@nokkenwiel.nl
SUMMARY:Deze week inloopochtend op afspraak
DESCRIPTION:
URL:https://nokkenwiel.nl/agenda/deze-week-inloopochtend-op-afspraak-4/
END:VEVENT
BEGIN:VEVENT
DTSTART;VALUE=DATE:20251031
DTEND;VALUE=DATE:20251101
DTSTAMP:20260420T162334
CREATED:20250627T074527Z
LAST-MODIFIED:20250627T074527Z
UID:2442-1761868800-1761955199@nokkenwiel.nl
SUMMARY:Nieuwsbrief 3
DESCRIPTION:
URL:https://nokkenwiel.nl/agenda/nieuwsbrief-3-2/
END:VEVENT
BEGIN:VEVENT
DTSTART;VALUE=DATE:20251020
DTEND;VALUE=DATE:20251027
DTSTAMP:20260420T162334
CREATED:20250627T074510Z
LAST-MODIFIED:20250627T074510Z
UID:2441-1760918400-1761523199@nokkenwiel.nl
SUMMARY:Herfstvakantie
DESCRIPTION:
URL:https://nokkenwiel.nl/agenda/herfstvakantie-2/
END:VEVENT
BEGIN:VEVENT
DTSTART;VALUE=DATE:20251016
DTEND;VALUE=DATE:20251017
DTSTAMP:20260420T162334
CREATED:20250627T074442Z
LAST-MODIFIED:20250627T074442Z
UID:2440-1760572800-1760659199@nokkenwiel.nl
SUMMARY:Scholenmarkt VO voor de groepen 8
DESCRIPTION:
URL:https://nokkenwiel.nl/agenda/scholenmarkt-vo-voor-de-groepen-8/
END:VEVENT
BEGIN:VEVENT
DTSTART;VALUE=DATE:20251014
DTEND;VALUE=DATE:20251015
DTSTAMP:20260420T162334
CREATED:20250627T074417Z
LAST-MODIFIED:20250627T074417Z
UID:2439-1760400000-1760486399@nokkenwiel.nl
SUMMARY:Kabouterpad
DESCRIPTION:
URL:https://nokkenwiel.nl/agenda/kabouterpad/
END:VEVENT
BEGIN:VEVENT
DTSTART;VALUE=DATE:20251006
DTEND;VALUE=DATE:20251011
DTSTAMP:20260420T162334
CREATED:20250627T074326Z
LAST-MODIFIED:20250627T074326Z
UID:2435-1759708800-1760140799@nokkenwiel.nl
SUMMARY:Kinderboekenweek
DESCRIPTION:Thema: Vol avontuur
URL:https://nokkenwiel.nl/agenda/kinderboekenweek-4/
END:VEVENT
BEGIN:VEVENT
DTSTART;VALUE=DATE:20251005
DTEND;VALUE=DATE:20251006
DTSTAMP:20260420T162334
CREATED:20250627T074353Z
LAST-MODIFIED:20250627T074353Z
UID:2437-1759622400-1759708799@nokkenwiel.nl
SUMMARY:Dag van de leerkracht
DESCRIPTION:
URL:https://nokkenwiel.nl/agenda/dag-van-de-leerkracht-2/
END:VEVENT
BEGIN:VEVENT
DTSTART;VALUE=DATE:20251001
DTEND;VALUE=DATE:20251004
DTSTAMP:20260420T162334
CREATED:20250627T074255Z
LAST-MODIFIED:20250627T074255Z
UID:2433-1759276800-1759535999@nokkenwiel.nl
SUMMARY:Kinderboekenweek
DESCRIPTION:Thema: Vol avontuur
URL:https://nokkenwiel.nl/agenda/kinderboekenweek-3/
END:VEVENT
BEGIN:VEVENT
DTSTART;VALUE=DATE:20250930
DTEND;VALUE=DATE:20251001
DTSTAMP:20260420T162334
CREATED:20250627T074202Z
LAST-MODIFIED:20250627T074202Z
UID:2431-1759190400-1759276799@nokkenwiel.nl
SUMMARY:Dag van de IKC-medewerker
DESCRIPTION:
URL:https://nokkenwiel.nl/agenda/dag-van-de-ikc-medewerker-2/
END:VEVENT
BEGIN:VEVENT
DTSTART;VALUE=DATE:20250929
DTEND;VALUE=DATE:20250930
DTSTAMP:20260420T162334
CREATED:20250627T074133Z
LAST-MODIFIED:20250627T074133Z
UID:2429-1759104000-1759190399@nokkenwiel.nl
SUMMARY:MR
DESCRIPTION:
URL:https://nokkenwiel.nl/agenda/mr-5/
END:VEVENT
END:VCALENDAR