BEGIN:VCALENDAR
VERSION:2.0
PRODID:-//Nokkenwiel - ECPv6.15.20//NONSGML v1.0//EN
CALSCALE:GREGORIAN
METHOD:PUBLISH
X-WR-CALNAME:Nokkenwiel
X-ORIGINAL-URL:https://nokkenwiel.nl
X-WR-CALDESC:Evenementen voor Nokkenwiel
REFRESH-INTERVAL;VALUE=DURATION:PT1H
X-Robots-Tag:noindex
X-PUBLISHED-TTL:PT1H
BEGIN:VTIMEZONE
TZID:Europe/Amsterdam
BEGIN:DAYLIGHT
TZOFFSETFROM:+0100
TZOFFSETTO:+0200
TZNAME:CEST
DTSTART:20240331T010000
END:DAYLIGHT
BEGIN:STANDARD
TZOFFSETFROM:+0200
TZOFFSETTO:+0100
TZNAME:CET
DTSTART:20241027T010000
END:STANDARD
BEGIN:DAYLIGHT
TZOFFSETFROM:+0100
TZOFFSETTO:+0200
TZNAME:CEST
DTSTART:20250330T010000
END:DAYLIGHT
BEGIN:STANDARD
TZOFFSETFROM:+0200
TZOFFSETTO:+0100
TZNAME:CET
DTSTART:20251026T010000
END:STANDARD
BEGIN:DAYLIGHT
TZOFFSETFROM:+0100
TZOFFSETTO:+0200
TZNAME:CEST
DTSTART:20260329T010000
END:DAYLIGHT
BEGIN:STANDARD
TZOFFSETFROM:+0200
TZOFFSETTO:+0100
TZNAME:CET
DTSTART:20261025T010000
END:STANDARD
END:VTIMEZONE
BEGIN:VEVENT
DTSTART;VALUE=DATE:20250627
DTEND;VALUE=DATE:20250628
DTSTAMP:20260421T042801
CREATED:20240704T092012Z
LAST-MODIFIED:20240704T092012Z
UID:2244-1750982400-1751068799@nokkenwiel.nl
SUMMARY:Nieuwsbrief 11
DESCRIPTION:
URL:https://nokkenwiel.nl/agenda/mr-oc-2-2-7-9-2-9/
END:VEVENT
BEGIN:VEVENT
DTSTART;VALUE=DATE:20250627
DTEND;VALUE=DATE:20250628
DTSTAMP:20260421T042801
CREATED:20240704T092026Z
LAST-MODIFIED:20240704T092026Z
UID:2245-1750982400-1751068799@nokkenwiel.nl
SUMMARY:Tweede rapport mee
DESCRIPTION:
URL:https://nokkenwiel.nl/agenda/mr-oc-2-2-7-9-2-10/
END:VEVENT
BEGIN:VEVENT
DTSTART;VALUE=DATE:20250630
DTEND;VALUE=DATE:20250705
DTSTAMP:20260421T042801
CREATED:20240704T092100Z
LAST-MODIFIED:20240704T092100Z
UID:2246-1751241600-1751673599@nokkenwiel.nl
SUMMARY:Deze week facultatieve rapportgesprekken
DESCRIPTION:
URL:https://nokkenwiel.nl/agenda/mr-oc-2-2-7-9-2-11/
END:VEVENT
BEGIN:VEVENT
DTSTART;VALUE=DATE:20250704
DTEND;VALUE=DATE:20250705
DTSTAMP:20260421T042801
CREATED:20240704T092236Z
LAST-MODIFIED:20240704T092236Z
UID:2260-1751587200-1751673599@nokkenwiel.nl
SUMMARY:Leerlingenraad
DESCRIPTION:
URL:https://nokkenwiel.nl/agenda/mr-oc-2-2-7-9-2-10-2/
END:VEVENT
BEGIN:VEVENT
DTSTART;VALUE=DATE:20250707
DTEND;VALUE=DATE:20250708
DTSTAMP:20260421T042801
CREATED:20240704T092339Z
LAST-MODIFIED:20240704T092339Z
UID:2262-1751846400-1751932799@nokkenwiel.nl
SUMMARY:MR
DESCRIPTION:
URL:https://nokkenwiel.nl/agenda/mr-oc-2-2-7-9-2-10-2-2/
END:VEVENT
BEGIN:VEVENT
DTSTART;VALUE=DATE:20250710
DTEND;VALUE=DATE:20250711
DTSTAMP:20260421T042801
CREATED:20240704T092359Z
LAST-MODIFIED:20240704T092359Z
UID:2263-1752105600-1752191999@nokkenwiel.nl
SUMMARY:Wisselmoment nieuwe groepen
DESCRIPTION:
URL:https://nokkenwiel.nl/agenda/mr-oc-2-2-7-9-2-10-2-3/
END:VEVENT
BEGIN:VEVENT
DTSTART;VALUE=DATE:20250710
DTEND;VALUE=DATE:20250711
DTSTAMP:20260421T042801
CREATED:20240704T092410Z
LAST-MODIFIED:20240704T092410Z
UID:2264-1752105600-1752191999@nokkenwiel.nl
SUMMARY:Zomerfeest
DESCRIPTION:
URL:https://nokkenwiel.nl/agenda/mr-oc-2-2-7-9-2-10-2-4/
END:VEVENT
BEGIN:VEVENT
DTSTART;VALUE=DATE:20250711
DTEND;VALUE=DATE:20250712
DTSTAMP:20260421T042801
CREATED:20240704T092443Z
LAST-MODIFIED:20240704T092443Z
UID:2265-1752192000-1752278399@nokkenwiel.nl
SUMMARY:Middag vanaf 12:30 uur vrij
DESCRIPTION:
URL:https://nokkenwiel.nl/agenda/mr-oc-2-2-7-9-2-10-2-5/
END:VEVENT
BEGIN:VEVENT
DTSTART;VALUE=DATE:20250714
DTEND;VALUE=DATE:20250715
DTSTAMP:20260421T042801
CREATED:20240704T092500Z
LAST-MODIFIED:20240704T092500Z
UID:2266-1752451200-1752537599@nokkenwiel.nl
SUMMARY:Musical groepen 8
DESCRIPTION:
URL:https://nokkenwiel.nl/agenda/mr-oc-2-2-7-9-2-10-2-6/
END:VEVENT
BEGIN:VEVENT
DTSTART;VALUE=DATE:20250715
DTEND;VALUE=DATE:20250716
DTSTAMP:20260421T042801
CREATED:20240704T092517Z
LAST-MODIFIED:20240704T092517Z
UID:2267-1752537600-1752623999@nokkenwiel.nl
SUMMARY:Meester en juffen middag
DESCRIPTION:
URL:https://nokkenwiel.nl/agenda/mr-oc-2-2-7-9-2-10-2-7/
END:VEVENT
BEGIN:VEVENT
DTSTART;VALUE=DATE:20250717
DTEND;VALUE=DATE:20250718
DTSTAMP:20260421T042801
CREATED:20240704T092534Z
LAST-MODIFIED:20240704T092534Z
UID:2268-1752710400-1752796799@nokkenwiel.nl
SUMMARY:Nieuwsbrief 12
DESCRIPTION:
URL:https://nokkenwiel.nl/agenda/mr-oc-2-2-7-9-2-10-2-8/
END:VEVENT
BEGIN:VEVENT
DTSTART;VALUE=DATE:20250718
DTEND;VALUE=DATE:20250719
DTSTAMP:20260421T042801
CREATED:20240704T092627Z
LAST-MODIFIED:20240704T092627Z
UID:2276-1752796800-1752883199@nokkenwiel.nl
SUMMARY:Studiedag
DESCRIPTION:Alle kinderen zijn vrij \nBSO/KDV/PSG open
URL:https://nokkenwiel.nl/agenda/mr-oc-2-2-7-9-2-5-2/
END:VEVENT
BEGIN:VEVENT
DTSTART;VALUE=DATE:20250721
DTEND;VALUE=DATE:20250901
DTSTAMP:20260421T042801
CREATED:20240704T092713Z
LAST-MODIFIED:20240704T092713Z
UID:2277-1753056000-1756684799@nokkenwiel.nl
SUMMARY:Zomervakantie
DESCRIPTION:BSO/KDV/PSG in de vakantie open
URL:https://nokkenwiel.nl/agenda/mr-oc-2-2-3-2/
END:VEVENT
BEGIN:VEVENT
DTSTART;VALUE=DATE:20250829
DTEND;VALUE=DATE:20250830
DTSTAMP:20260421T042801
CREATED:20250627T073650Z
LAST-MODIFIED:20250627T073650Z
UID:2415-1756425600-1756511999@nokkenwiel.nl
SUMMARY:Nieuwsbrief 1
DESCRIPTION:
URL:https://nokkenwiel.nl/agenda/nieuwsbrief-1-2/
END:VEVENT
BEGIN:VEVENT
DTSTART;VALUE=DATE:20250901
DTEND;VALUE=DATE:20250902
DTSTAMP:20260421T042801
CREATED:20250627T073749Z
LAST-MODIFIED:20250627T073749Z
UID:2417-1756684800-1756771199@nokkenwiel.nl
SUMMARY:Eerste schooldag
DESCRIPTION:
URL:https://nokkenwiel.nl/agenda/eerste-schooldag-2/
END:VEVENT
BEGIN:VEVENT
DTSTART;VALUE=DATE:20250908
DTEND;VALUE=DATE:20250913
DTSTAMP:20260421T042801
CREATED:20250627T073833Z
LAST-MODIFIED:20250627T073833Z
UID:2418-1757289600-1757721599@nokkenwiel.nl
SUMMARY:Deze week startgesprekken
DESCRIPTION:
URL:https://nokkenwiel.nl/agenda/deze-week-startgesprekken-2/
END:VEVENT
BEGIN:VEVENT
DTSTART;VALUE=DATE:20250915
DTEND;VALUE=DATE:20250920
DTSTAMP:20260421T042801
CREATED:20250627T073855Z
LAST-MODIFIED:20250627T073855Z
UID:2419-1757894400-1758326399@nokkenwiel.nl
SUMMARY:Deze week startgesprekken
DESCRIPTION:
URL:https://nokkenwiel.nl/agenda/deze-week-startgesprekken-3/
END:VEVENT
BEGIN:VEVENT
DTSTART;VALUE=DATE:20250918
DTEND;VALUE=DATE:20250919
DTSTAMP:20260421T042801
CREATED:20250627T074007Z
LAST-MODIFIED:20250627T074007Z
UID:2420-1758153600-1758239999@nokkenwiel.nl
SUMMARY:Dag van de pedagogische professional
DESCRIPTION:
URL:https://nokkenwiel.nl/agenda/dag-van-de-pedagogische-professional/
END:VEVENT
BEGIN:VEVENT
DTSTART;VALUE=DATE:20250926
DTEND;VALUE=DATE:20250927
DTSTAMP:20260421T042801
CREATED:20250627T074025Z
LAST-MODIFIED:20250627T074025Z
UID:2425-1758844800-1758931199@nokkenwiel.nl
SUMMARY:Nieuwsbrief 2
DESCRIPTION:
URL:https://nokkenwiel.nl/agenda/nieuwsbrief-2-2/
END:VEVENT
BEGIN:VEVENT
DTSTART;VALUE=DATE:20250929
DTEND;VALUE=DATE:20251004
DTSTAMP:20260421T042801
CREATED:20250627T074106Z
LAST-MODIFIED:20250627T074106Z
UID:2427-1759104000-1759535999@nokkenwiel.nl
SUMMARY:Deze week schoolfotograaf
DESCRIPTION:
URL:https://nokkenwiel.nl/agenda/deze-week-schoolfotograaf/
END:VEVENT
BEGIN:VEVENT
DTSTART;VALUE=DATE:20250929
DTEND;VALUE=DATE:20250930
DTSTAMP:20260421T042801
CREATED:20250627T074133Z
LAST-MODIFIED:20250627T074133Z
UID:2429-1759104000-1759190399@nokkenwiel.nl
SUMMARY:MR
DESCRIPTION:
URL:https://nokkenwiel.nl/agenda/mr-5/
END:VEVENT
BEGIN:VEVENT
DTSTART;VALUE=DATE:20250930
DTEND;VALUE=DATE:20251001
DTSTAMP:20260421T042801
CREATED:20250627T074202Z
LAST-MODIFIED:20250627T074202Z
UID:2431-1759190400-1759276799@nokkenwiel.nl
SUMMARY:Dag van de IKC-medewerker
DESCRIPTION:
URL:https://nokkenwiel.nl/agenda/dag-van-de-ikc-medewerker-2/
END:VEVENT
BEGIN:VEVENT
DTSTART;VALUE=DATE:20251001
DTEND;VALUE=DATE:20251004
DTSTAMP:20260421T042801
CREATED:20250627T074255Z
LAST-MODIFIED:20250627T074255Z
UID:2433-1759276800-1759535999@nokkenwiel.nl
SUMMARY:Kinderboekenweek
DESCRIPTION:Thema: Vol avontuur
URL:https://nokkenwiel.nl/agenda/kinderboekenweek-3/
END:VEVENT
BEGIN:VEVENT
DTSTART;VALUE=DATE:20251005
DTEND;VALUE=DATE:20251006
DTSTAMP:20260421T042801
CREATED:20250627T074353Z
LAST-MODIFIED:20250627T074353Z
UID:2437-1759622400-1759708799@nokkenwiel.nl
SUMMARY:Dag van de leerkracht
DESCRIPTION:
URL:https://nokkenwiel.nl/agenda/dag-van-de-leerkracht-2/
END:VEVENT
BEGIN:VEVENT
DTSTART;VALUE=DATE:20251006
DTEND;VALUE=DATE:20251011
DTSTAMP:20260421T042801
CREATED:20250627T074326Z
LAST-MODIFIED:20250627T074326Z
UID:2435-1759708800-1760140799@nokkenwiel.nl
SUMMARY:Kinderboekenweek
DESCRIPTION:Thema: Vol avontuur
URL:https://nokkenwiel.nl/agenda/kinderboekenweek-4/
END:VEVENT
BEGIN:VEVENT
DTSTART;VALUE=DATE:20251014
DTEND;VALUE=DATE:20251015
DTSTAMP:20260421T042801
CREATED:20250627T074417Z
LAST-MODIFIED:20250627T074417Z
UID:2439-1760400000-1760486399@nokkenwiel.nl
SUMMARY:Kabouterpad
DESCRIPTION:
URL:https://nokkenwiel.nl/agenda/kabouterpad/
END:VEVENT
BEGIN:VEVENT
DTSTART;VALUE=DATE:20251016
DTEND;VALUE=DATE:20251017
DTSTAMP:20260421T042801
CREATED:20250627T074442Z
LAST-MODIFIED:20250627T074442Z
UID:2440-1760572800-1760659199@nokkenwiel.nl
SUMMARY:Scholenmarkt VO voor de groepen 8
DESCRIPTION:
URL:https://nokkenwiel.nl/agenda/scholenmarkt-vo-voor-de-groepen-8/
END:VEVENT
BEGIN:VEVENT
DTSTART;VALUE=DATE:20251020
DTEND;VALUE=DATE:20251027
DTSTAMP:20260421T042801
CREATED:20250627T074510Z
LAST-MODIFIED:20250627T074510Z
UID:2441-1760918400-1761523199@nokkenwiel.nl
SUMMARY:Herfstvakantie
DESCRIPTION:
URL:https://nokkenwiel.nl/agenda/herfstvakantie-2/
END:VEVENT
BEGIN:VEVENT
DTSTART;VALUE=DATE:20251031
DTEND;VALUE=DATE:20251101
DTSTAMP:20260421T042801
CREATED:20250627T074527Z
LAST-MODIFIED:20250627T074527Z
UID:2442-1761868800-1761955199@nokkenwiel.nl
SUMMARY:Nieuwsbrief 3
DESCRIPTION:
URL:https://nokkenwiel.nl/agenda/nieuwsbrief-3-2/
END:VEVENT
BEGIN:VEVENT
DTSTART;VALUE=DATE:20251103
DTEND;VALUE=DATE:20251104
DTSTAMP:20260421T042801
CREATED:20250627T074628Z
LAST-MODIFIED:20250627T074628Z
UID:2443-1762128000-1762214399@nokkenwiel.nl
SUMMARY:Deze week inloopochtend op afspraak
DESCRIPTION:
URL:https://nokkenwiel.nl/agenda/deze-week-inloopochtend-op-afspraak-4/
END:VEVENT
END:VCALENDAR