BEGIN:VCALENDAR
VERSION:2.0
PRODID:-//Nokkenwiel - ECPv6.15.20//NONSGML v1.0//EN
CALSCALE:GREGORIAN
METHOD:PUBLISH
X-WR-CALNAME:Nokkenwiel
X-ORIGINAL-URL:https://nokkenwiel.nl
X-WR-CALDESC:Evenementen voor Nokkenwiel
REFRESH-INTERVAL;VALUE=DURATION:PT1H
X-Robots-Tag:noindex
X-PUBLISHED-TTL:PT1H
BEGIN:VTIMEZONE
TZID:Europe/Amsterdam
BEGIN:DAYLIGHT
TZOFFSETFROM:+0100
TZOFFSETTO:+0200
TZNAME:CEST
DTSTART:20220327T010000
END:DAYLIGHT
BEGIN:STANDARD
TZOFFSETFROM:+0200
TZOFFSETTO:+0100
TZNAME:CET
DTSTART:20221030T010000
END:STANDARD
BEGIN:DAYLIGHT
TZOFFSETFROM:+0100
TZOFFSETTO:+0200
TZNAME:CEST
DTSTART:20230326T010000
END:DAYLIGHT
BEGIN:STANDARD
TZOFFSETFROM:+0200
TZOFFSETTO:+0100
TZNAME:CET
DTSTART:20231029T010000
END:STANDARD
BEGIN:DAYLIGHT
TZOFFSETFROM:+0100
TZOFFSETTO:+0200
TZNAME:CEST
DTSTART:20240331T010000
END:DAYLIGHT
BEGIN:STANDARD
TZOFFSETFROM:+0200
TZOFFSETTO:+0100
TZNAME:CET
DTSTART:20241027T010000
END:STANDARD
BEGIN:DAYLIGHT
TZOFFSETFROM:+0100
TZOFFSETTO:+0200
TZNAME:CEST
DTSTART:20250330T010000
END:DAYLIGHT
BEGIN:STANDARD
TZOFFSETFROM:+0200
TZOFFSETTO:+0100
TZNAME:CET
DTSTART:20251026T010000
END:STANDARD
END:VTIMEZONE
BEGIN:VTIMEZONE
TZID:UTC
BEGIN:STANDARD
TZOFFSETFROM:+0000
TZOFFSETTO:+0000
TZNAME:UTC
DTSTART:20190101T000000
END:STANDARD
END:VTIMEZONE
BEGIN:VEVENT
DTSTART;VALUE=DATE:20240115
DTEND;VALUE=DATE:20240116
DTSTAMP:20260421T214631
CREATED:20231103T100042Z
LAST-MODIFIED:20231103T101215Z
UID:1891-1705276800-1705363199@nokkenwiel.nl
SUMMARY:MR
DESCRIPTION:
URL:https://nokkenwiel.nl/agenda/mr/
END:VEVENT
BEGIN:VEVENT
DTSTART;VALUE=DATE:20240108
DTEND;VALUE=DATE:20240109
DTSTAMP:20260421T214631
CREATED:20231103T101022Z
LAST-MODIFIED:20231103T101022Z
UID:1885-1704672000-1704758399@nokkenwiel.nl
SUMMARY:Studiedag - Alle kinderen zijn vrij
DESCRIPTION:
URL:https://nokkenwiel.nl/agenda/studiedag-alle-kinderen-zijn-vrij/
END:VEVENT
BEGIN:VEVENT
DTSTART;VALUE=DATE:20231226
DTEND;VALUE=DATE:20231227
DTSTAMP:20260421T214631
CREATED:20231103T104245Z
LAST-MODIFIED:20231103T104245Z
UID:1999-1703548800-1703635199@nokkenwiel.nl
SUMMARY:Tweede Kerstdag
DESCRIPTION:
URL:https://nokkenwiel.nl/agenda/tweede-kerstdag/
END:VEVENT
BEGIN:VEVENT
DTSTART;VALUE=DATE:20231225
DTEND;VALUE=DATE:20240108
DTSTAMP:20260421T214631
CREATED:20231103T095908Z
LAST-MODIFIED:20231103T100246Z
UID:1869-1703462400-1704671999@nokkenwiel.nl
SUMMARY:Kerstvakantie
DESCRIPTION:
URL:https://nokkenwiel.nl/agenda/kerstvakantie/
END:VEVENT
BEGIN:VEVENT
DTSTART;VALUE=DATE:20231225
DTEND;VALUE=DATE:20231226
DTSTAMP:20260421T214631
CREATED:20210712T111934Z
LAST-MODIFIED:20231103T104230Z
UID:1142-1703462400-1703548799@nokkenwiel.nl
SUMMARY:Eerste Kerstdag
DESCRIPTION:
URL:https://nokkenwiel.nl/agenda/eerste-kerstdag-4/
END:VEVENT
BEGIN:VEVENT
DTSTART;VALUE=DATE:20231222
DTEND;VALUE=DATE:20231223
DTSTAMP:20260421T214631
CREATED:20231103T104146Z
LAST-MODIFIED:20231103T104146Z
UID:1996-1703203200-1703289599@nokkenwiel.nl
SUMMARY:Nieuwsbrief 5
DESCRIPTION:
URL:https://nokkenwiel.nl/agenda/nieuwsbrief-5/
END:VEVENT
BEGIN:VEVENT
DTSTART;VALUE=DATE:20231222
DTEND;VALUE=DATE:20231223
DTSTAMP:20260421T214631
CREATED:20231103T100923Z
LAST-MODIFIED:20231103T100923Z
UID:1883-1703203200-1703289599@nokkenwiel.nl
SUMMARY:Middag vrij
DESCRIPTION:
URL:https://nokkenwiel.nl/agenda/middag-vrij/
END:VEVENT
BEGIN:VEVENT
DTSTART;VALUE=DATE:20231221
DTEND;VALUE=DATE:20231222
DTSTAMP:20260421T214631
CREATED:20231103T100905Z
LAST-MODIFIED:20231103T100905Z
UID:1881-1703116800-1703203199@nokkenwiel.nl
SUMMARY:Kerstdiner in de avond
DESCRIPTION:
URL:https://nokkenwiel.nl/agenda/kerstdiner-in-de-avond/
END:VEVENT
BEGIN:VEVENT
DTSTART;VALUE=DATE:20231205
DTEND;VALUE=DATE:20231206
DTSTAMP:20260421T214631
CREATED:20231103T100834Z
LAST-MODIFIED:20231103T100834Z
UID:1879-1701734400-1701820799@nokkenwiel.nl
SUMMARY:Sinterklaasviering - Middag vrij
DESCRIPTION:
URL:https://nokkenwiel.nl/agenda/sinterklaasviering-middag-vrij/
END:VEVENT
BEGIN:VEVENT
DTSTART;VALUE=DATE:20231201
DTEND;VALUE=DATE:20231202
DTSTAMP:20260421T214631
CREATED:20231103T104125Z
LAST-MODIFIED:20231103T104125Z
UID:1994-1701388800-1701475199@nokkenwiel.nl
SUMMARY:Nieuwsbrief 4
DESCRIPTION:
URL:https://nokkenwiel.nl/agenda/nieuwsbrief-4/
END:VEVENT
BEGIN:VEVENT
DTSTART;VALUE=DATE:20231120
DTEND;VALUE=DATE:20231121
DTSTAMP:20260421T214631
CREATED:20231103T100748Z
LAST-MODIFIED:20231103T100748Z
UID:1877-1700438400-1700524799@nokkenwiel.nl
SUMMARY:Lootjes trekken groepen 5 t/m 8
DESCRIPTION:
URL:https://nokkenwiel.nl/agenda/lootjes-trekken-groepen-5-t-m-8/
END:VEVENT
BEGIN:VEVENT
DTSTART;VALUE=DATE:20231118
DTEND;VALUE=DATE:20231119
DTSTAMP:20260421T214631
CREATED:20231103T104356Z
LAST-MODIFIED:20231103T104356Z
UID:2005-1700265600-1700351999@nokkenwiel.nl
SUMMARY:Intocht Sinterklaas
DESCRIPTION:
URL:https://nokkenwiel.nl/agenda/intocht-sinterklaas/
END:VEVENT
BEGIN:VEVENT
DTSTART;VALUE=DATE:20231113
DTEND;VALUE=DATE:20231114
DTSTAMP:20260421T214631
CREATED:20231103T104339Z
LAST-MODIFIED:20231103T104339Z
UID:2003-1699833600-1699919999@nokkenwiel.nl
SUMMARY:MR/AC//OC
DESCRIPTION:
URL:https://nokkenwiel.nl/agenda/mr-ac-oc/
END:VEVENT
BEGIN:VEVENT
DTSTART;VALUE=DATE:20231106
DTEND;VALUE=DATE:20231107
DTSTAMP:20260421T214631
CREATED:20231103T104321Z
LAST-MODIFIED:20231103T104321Z
UID:2001-1699228800-1699315199@nokkenwiel.nl
SUMMARY:Deze week inloopochtend op afspraak
DESCRIPTION:
URL:https://nokkenwiel.nl/agenda/deze-week-inloopochtend-op-afspraak-2/
END:VEVENT
BEGIN:VEVENT
DTSTART;VALUE=DATE:20230919
DTEND;VALUE=DATE:20230921
DTSTAMP:20260421T214631
CREATED:20210712T111849Z
LAST-MODIFIED:20210712T111849Z
UID:1126-1695081600-1695254399@nokkenwiel.nl
SUMMARY:Prinsjesdag
DESCRIPTION:
URL:https://nokkenwiel.nl/agenda/prinsjesdag/
END:VEVENT
BEGIN:VEVENT
DTSTART;VALUE=DATE:20230529
DTEND;VALUE=DATE:20230531
DTSTAMP:20260421T214631
CREATED:20210712T111850Z
LAST-MODIFIED:20210712T111850Z
UID:1127-1685318400-1685491199@nokkenwiel.nl
SUMMARY:Tweede Pinksterdag
DESCRIPTION:
URL:https://nokkenwiel.nl/agenda/tweede-pinksterdag/
END:VEVENT
BEGIN:VEVENT
DTSTART;VALUE=DATE:20230528
DTEND;VALUE=DATE:20230530
DTSTAMP:20260421T214631
CREATED:20210712T111850Z
LAST-MODIFIED:20210712T111850Z
UID:1128-1685232000-1685404799@nokkenwiel.nl
SUMMARY:Eerste Pinksterdag
DESCRIPTION:
URL:https://nokkenwiel.nl/agenda/eerste-pinksterdag/
END:VEVENT
BEGIN:VEVENT
DTSTART;VALUE=DATE:20230519
DTEND;VALUE=DATE:20230521
DTSTAMP:20260421T214631
CREATED:20210712T111850Z
LAST-MODIFIED:20210712T111850Z
UID:1129-1684454400-1684627199@nokkenwiel.nl
SUMMARY:Dag na Hemelvaart
DESCRIPTION:
URL:https://nokkenwiel.nl/agenda/dag-na-hemelvaart/
END:VEVENT
BEGIN:VEVENT
DTSTART;VALUE=DATE:20230518
DTEND;VALUE=DATE:20230520
DTSTAMP:20260421T214631
CREATED:20210712T111850Z
LAST-MODIFIED:20210712T111850Z
UID:1130-1684368000-1684540799@nokkenwiel.nl
SUMMARY:Hemelvaartsdag
DESCRIPTION:
URL:https://nokkenwiel.nl/agenda/hemelvaartsdag/
END:VEVENT
BEGIN:VEVENT
DTSTART;VALUE=DATE:20230427
DTEND;VALUE=DATE:20230429
DTSTAMP:20260421T214631
CREATED:20210712T111853Z
LAST-MODIFIED:20210712T111853Z
UID:1131-1682553600-1682726399@nokkenwiel.nl
SUMMARY:Koningsdag
DESCRIPTION:
URL:https://nokkenwiel.nl/agenda/koningsdag/
END:VEVENT
BEGIN:VEVENT
DTSTART;VALUE=DATE:20230410
DTEND;VALUE=DATE:20230412
DTSTAMP:20260421T214631
CREATED:20210712T111853Z
LAST-MODIFIED:20210712T111853Z
UID:1132-1681084800-1681257599@nokkenwiel.nl
SUMMARY:Tweede Paasdag
DESCRIPTION:
URL:https://nokkenwiel.nl/agenda/tweede-paasdag/
END:VEVENT
BEGIN:VEVENT
DTSTART;VALUE=DATE:20230409
DTEND;VALUE=DATE:20230411
DTSTAMP:20260421T214631
CREATED:20210712T111854Z
LAST-MODIFIED:20210712T111854Z
UID:1133-1680998400-1681171199@nokkenwiel.nl
SUMMARY:Eerste Paasdag
DESCRIPTION:
URL:https://nokkenwiel.nl/agenda/eerste-paasdag/
END:VEVENT
BEGIN:VEVENT
DTSTART;VALUE=DATE:20230407
DTEND;VALUE=DATE:20230409
DTSTAMP:20260421T214631
CREATED:20210712T111854Z
LAST-MODIFIED:20210712T111854Z
UID:1134-1680825600-1680998399@nokkenwiel.nl
SUMMARY:Goede Vrijdag
DESCRIPTION:
URL:https://nokkenwiel.nl/agenda/goede-vrijdag/
END:VEVENT
BEGIN:VEVENT
DTSTART;VALUE=DATE:20221225
DTEND;VALUE=DATE:20221227
DTSTAMP:20260421T214631
CREATED:20210712T111934Z
LAST-MODIFIED:20210712T111934Z
UID:1141-1671926400-1672099199@nokkenwiel.nl
SUMMARY:Eerste Kerstdag
DESCRIPTION:
URL:https://nokkenwiel.nl/agenda/eerste-kerstdag-3/
END:VEVENT
BEGIN:VEVENT
DTSTART;VALUE=DATE:20220606
DTEND;VALUE=DATE:20220608
DTSTAMP:20260421T214631
CREATED:20210712T111909Z
LAST-MODIFIED:20210712T111909Z
UID:1136-1654473600-1654646399@nokkenwiel.nl
SUMMARY:Tweede Pinksterdag
DESCRIPTION:
URL:https://nokkenwiel.nl/agenda/tweede-pinksterdag-2/
END:VEVENT
BEGIN:VEVENT
DTSTART;VALUE=DATE:20211225
DTEND;VALUE=DATE:20211227
DTSTAMP:20260421T214631
CREATED:20210712T111911Z
LAST-MODIFIED:20210712T111911Z
UID:1140-1640390400-1640563199@nokkenwiel.nl
SUMMARY:Eerste Kerstdag
DESCRIPTION:
URL:https://nokkenwiel.nl/agenda/eerste-kerstdag-2/
END:VEVENT
BEGIN:VEVENT
DTSTART;VALUE=DATE:20210523
DTEND;VALUE=DATE:20210525
DTSTAMP:20260421T214631
CREATED:20210712T111854Z
LAST-MODIFIED:20210712T111854Z
UID:1135-1621728000-1621900799@nokkenwiel.nl
SUMMARY:Eerste Pinksterdag
DESCRIPTION:
URL:https://nokkenwiel.nl/agenda/eerste-pinksterdag-2/
END:VEVENT
BEGIN:VEVENT
DTSTART;VALUE=DATE:20210427
DTEND;VALUE=DATE:20210429
DTSTAMP:20260421T214631
CREATED:20210712T111935Z
LAST-MODIFIED:20210712T111935Z
UID:1144-1619481600-1619654399@nokkenwiel.nl
SUMMARY:Koningsdag
DESCRIPTION:
URL:https://nokkenwiel.nl/agenda/koningsdag-2/
END:VEVENT
BEGIN:VEVENT
DTSTART;VALUE=DATE:20210405
DTEND;VALUE=DATE:20210407
DTSTAMP:20260421T214631
CREATED:20210712T111911Z
LAST-MODIFIED:20210712T111911Z
UID:1138-1617580800-1617753599@nokkenwiel.nl
SUMMARY:Tweede Paasdag
DESCRIPTION:
URL:https://nokkenwiel.nl/agenda/tweede-paasdag-2/
END:VEVENT
BEGIN:VEVENT
DTSTART;VALUE=DATE:20201225
DTEND;VALUE=DATE:20201227
DTSTAMP:20260421T214631
CREATED:20210712T111911Z
LAST-MODIFIED:20210712T111911Z
UID:1139-1608854400-1609027199@nokkenwiel.nl
SUMMARY:Eerste Kerstdag
DESCRIPTION:
URL:https://nokkenwiel.nl/agenda/eerste-kerstdag/
END:VEVENT
END:VCALENDAR