BEGIN:VCALENDAR
VERSION:2.0
PRODID:-//Nokkenwiel - ECPv6.15.20//NONSGML v1.0//EN
CALSCALE:GREGORIAN
METHOD:PUBLISH
X-WR-CALNAME:Nokkenwiel
X-ORIGINAL-URL:https://nokkenwiel.nl
X-WR-CALDESC:Evenementen voor Nokkenwiel
REFRESH-INTERVAL;VALUE=DURATION:PT1H
X-Robots-Tag:noindex
X-PUBLISHED-TTL:PT1H
BEGIN:VTIMEZONE
TZID:Europe/Amsterdam
BEGIN:DAYLIGHT
TZOFFSETFROM:+0100
TZOFFSETTO:+0200
TZNAME:CEST
DTSTART:20230326T010000
END:DAYLIGHT
BEGIN:STANDARD
TZOFFSETFROM:+0200
TZOFFSETTO:+0100
TZNAME:CET
DTSTART:20231029T010000
END:STANDARD
BEGIN:DAYLIGHT
TZOFFSETFROM:+0100
TZOFFSETTO:+0200
TZNAME:CEST
DTSTART:20240331T010000
END:DAYLIGHT
BEGIN:STANDARD
TZOFFSETFROM:+0200
TZOFFSETTO:+0100
TZNAME:CET
DTSTART:20241027T010000
END:STANDARD
BEGIN:DAYLIGHT
TZOFFSETFROM:+0100
TZOFFSETTO:+0200
TZNAME:CEST
DTSTART:20250330T010000
END:DAYLIGHT
BEGIN:STANDARD
TZOFFSETFROM:+0200
TZOFFSETTO:+0100
TZNAME:CET
DTSTART:20251026T010000
END:STANDARD
END:VTIMEZONE
BEGIN:VEVENT
DTSTART;VALUE=DATE:20240909
DTEND;VALUE=DATE:20240914
DTSTAMP:20260421T061908
CREATED:20240704T080858Z
LAST-MODIFIED:20240704T080858Z
UID:2078-1725840000-1726271999@nokkenwiel.nl
SUMMARY:Deze week Startgesprekken
DESCRIPTION:
URL:https://nokkenwiel.nl/agenda/deze-week-startgesprekken/
END:VEVENT
BEGIN:VEVENT
DTSTART;VALUE=DATE:20240909
DTEND;VALUE=DATE:20240914
DTSTAMP:20260421T061908
CREATED:20240704T080800Z
LAST-MODIFIED:20240704T080810Z
UID:2075-1725840000-1726271999@nokkenwiel.nl
SUMMARY:Gouden weken
DESCRIPTION:
URL:https://nokkenwiel.nl/agenda/week-van-klassenkracht-gouden-weken-2-2/
END:VEVENT
BEGIN:VEVENT
DTSTART;VALUE=DATE:20240902
DTEND;VALUE=DATE:20240907
DTSTAMP:20260421T061908
CREATED:20240704T080734Z
LAST-MODIFIED:20240704T080734Z
UID:2073-1725235200-1725667199@nokkenwiel.nl
SUMMARY:Week van Klasse(n)kracht / Gouden weken
DESCRIPTION:
URL:https://nokkenwiel.nl/agenda/week-van-klassenkracht-gouden-weken-2/
END:VEVENT
BEGIN:VEVENT
DTSTART;VALUE=DATE:20240826
DTEND;VALUE=DATE:20240831
DTSTAMP:20260421T061908
CREATED:20240704T080708Z
LAST-MODIFIED:20240704T080708Z
UID:2071-1724630400-1725062399@nokkenwiel.nl
SUMMARY:Week van Klasse(n)kracht / Gouden weken
DESCRIPTION:
URL:https://nokkenwiel.nl/agenda/week-van-klassenkracht-gouden-weken/
END:VEVENT
BEGIN:VEVENT
DTSTART;VALUE=DATE:20240826
DTEND;VALUE=DATE:20240827
DTSTAMP:20260421T061908
CREATED:20240704T080450Z
LAST-MODIFIED:20240704T080606Z
UID:2069-1724630400-1724716799@nokkenwiel.nl
SUMMARY:Eerste schooldag
DESCRIPTION:
URL:https://nokkenwiel.nl/agenda/eerste-schooldag/
END:VEVENT
BEGIN:VEVENT
DTSTART;VALUE=DATE:20240823
DTEND;VALUE=DATE:20240824
DTSTAMP:20260421T061908
CREATED:20240704T081407Z
LAST-MODIFIED:20240704T081407Z
UID:2092-1724371200-1724457599@nokkenwiel.nl
SUMMARY:Nieuwsbrief 1
DESCRIPTION:
URL:https://nokkenwiel.nl/agenda/nieuwsbrief-1/
END:VEVENT
BEGIN:VEVENT
DTSTART;VALUE=DATE:20240715
DTEND;VALUE=DATE:20240826
DTSTAMP:20260421T061908
CREATED:20231103T100451Z
LAST-MODIFIED:20231103T100451Z
UID:1875-1721001600-1724630399@nokkenwiel.nl
SUMMARY:Zomervakantie
DESCRIPTION:
URL:https://nokkenwiel.nl/agenda/zomervakantie/
END:VEVENT
BEGIN:VEVENT
DTSTART;VALUE=DATE:20240712
DTEND;VALUE=DATE:20240713
DTSTAMP:20260421T061908
CREATED:20231103T104035Z
LAST-MODIFIED:20231103T104035Z
UID:1992-1720742400-1720828799@nokkenwiel.nl
SUMMARY:Nieuwsbrief 11
DESCRIPTION:
URL:https://nokkenwiel.nl/agenda/nieuwsbrief-11/
END:VEVENT
BEGIN:VEVENT
DTSTART;VALUE=DATE:20240712
DTEND;VALUE=DATE:20240713
DTSTAMP:20260421T061908
CREATED:20231103T103322Z
LAST-MODIFIED:20231103T103322Z
UID:1977-1720742400-1720828799@nokkenwiel.nl
SUMMARY:Studiedag - Alle kinderen zijn vrij
DESCRIPTION:
URL:https://nokkenwiel.nl/agenda/studiedag-alle-kinderen-zijn-vrij-8/
END:VEVENT
BEGIN:VEVENT
DTSTART;VALUE=DATE:20240711
DTEND;VALUE=DATE:20240712
DTSTAMP:20260421T061908
CREATED:20231103T103304Z
LAST-MODIFIED:20231103T103304Z
UID:1975-1720656000-1720742399@nokkenwiel.nl
SUMMARY:Groepen 8 vrij
DESCRIPTION:
URL:https://nokkenwiel.nl/agenda/groepen-8-vrij/
END:VEVENT
BEGIN:VEVENT
DTSTART;VALUE=DATE:20240710
DTEND;VALUE=DATE:20240711
DTSTAMP:20260421T061908
CREATED:20231103T103250Z
LAST-MODIFIED:20231103T103250Z
UID:1973-1720569600-1720655999@nokkenwiel.nl
SUMMARY:Groepen 8 uitgooien
DESCRIPTION:
URL:https://nokkenwiel.nl/agenda/groepen-8-uitgooien/
END:VEVENT
BEGIN:VEVENT
DTSTART;VALUE=DATE:20240709
DTEND;VALUE=DATE:20240710
DTSTAMP:20260421T061908
CREATED:20231103T103236Z
LAST-MODIFIED:20231103T103236Z
UID:1971-1720483200-1720569599@nokkenwiel.nl
SUMMARY:Meester/Juffen dag
DESCRIPTION:
URL:https://nokkenwiel.nl/agenda/meester-juffen-dag/
END:VEVENT
BEGIN:VEVENT
DTSTART;VALUE=DATE:20240708
DTEND;VALUE=DATE:20240709
DTSTAMP:20260421T061908
CREATED:20231103T103213Z
LAST-MODIFIED:20231103T103213Z
UID:1969-1720396800-1720483199@nokkenwiel.nl
SUMMARY:Musical groepen 8
DESCRIPTION:
URL:https://nokkenwiel.nl/agenda/musical-groepen-8/
END:VEVENT
BEGIN:VEVENT
DTSTART;VALUE=DATE:20240705
DTEND;VALUE=DATE:20240706
DTSTAMP:20260421T061908
CREATED:20231103T103123Z
LAST-MODIFIED:20231103T103123Z
UID:1965-1720137600-1720223999@nokkenwiel.nl
SUMMARY:Middag vrij - Compensatie Zomerfeest
DESCRIPTION:
URL:https://nokkenwiel.nl/agenda/middag-vrij-compensatie-zomerfeest/
END:VEVENT
BEGIN:VEVENT
DTSTART;TZID=Europe/Amsterdam:20240704T131500
DTEND;TZID=Europe/Amsterdam:20240704T140000
DTSTAMP:20260421T061908
CREATED:20231103T103041Z
LAST-MODIFIED:20231103T103041Z
UID:1963-1720098900-1720101600@nokkenwiel.nl
SUMMARY:Wisselmoment nieuwe groep
DESCRIPTION:
URL:https://nokkenwiel.nl/agenda/wisselmoment-nieuwe-groep/
END:VEVENT
BEGIN:VEVENT
DTSTART;VALUE=DATE:20240704
DTEND;VALUE=DATE:20240705
DTSTAMP:20260421T061908
CREATED:20231103T103149Z
LAST-MODIFIED:20231103T103347Z
UID:1967-1720051200-1720137599@nokkenwiel.nl
SUMMARY:Zomerfeest - in de avond
DESCRIPTION:
URL:https://nokkenwiel.nl/agenda/zomerfeest-in-de-avond/
END:VEVENT
BEGIN:VEVENT
DTSTART;VALUE=DATE:20240701
DTEND;VALUE=DATE:20240702
DTSTAMP:20260421T061908
CREATED:20231103T102949Z
LAST-MODIFIED:20231103T102949Z
UID:1961-1719792000-1719878399@nokkenwiel.nl
SUMMARY:Deze week facultatieve rapportgesprekken
DESCRIPTION:
URL:https://nokkenwiel.nl/agenda/deze-week-facultatieve-rapportgesprekken/
END:VEVENT
BEGIN:VEVENT
DTSTART;VALUE=DATE:20240628
DTEND;VALUE=DATE:20240629
DTSTAMP:20260421T061908
CREATED:20231103T102840Z
LAST-MODIFIED:20231103T102840Z
UID:1959-1719532800-1719619199@nokkenwiel.nl
SUMMARY:Rapport mee
DESCRIPTION:
URL:https://nokkenwiel.nl/agenda/rapport-mee-2/
END:VEVENT
BEGIN:VEVENT
DTSTART;VALUE=DATE:20240624
DTEND;VALUE=DATE:20240625
DTSTAMP:20260421T061908
CREATED:20231103T102820Z
LAST-MODIFIED:20231103T102820Z
UID:1957-1719187200-1719273599@nokkenwiel.nl
SUMMARY:Studiedag - Alle kinderen zijn vrij
DESCRIPTION:
URL:https://nokkenwiel.nl/agenda/studiedag-alle-kinderen-zijn-vrij-7/
END:VEVENT
BEGIN:VEVENT
DTSTART;VALUE=DATE:20240621
DTEND;VALUE=DATE:20240622
DTSTAMP:20260421T061908
CREATED:20231103T102803Z
LAST-MODIFIED:20231103T102803Z
UID:1955-1718928000-1719014399@nokkenwiel.nl
SUMMARY:Studiedag - Alle kinderen zijn vrij
DESCRIPTION:
URL:https://nokkenwiel.nl/agenda/studiedag-alle-kinderen-zijn-vrij-6/
END:VEVENT
BEGIN:VEVENT
DTSTART;VALUE=DATE:20240620
DTEND;VALUE=DATE:20240621
DTSTAMP:20260421T061908
CREATED:20231103T102748Z
LAST-MODIFIED:20231103T102748Z
UID:1953-1718841600-1718927999@nokkenwiel.nl
SUMMARY:Einde afname CITO
DESCRIPTION:
URL:https://nokkenwiel.nl/agenda/einde-afname-cito-2/
END:VEVENT
BEGIN:VEVENT
DTSTART;VALUE=DATE:20240616
DTEND;VALUE=DATE:20240617
DTSTAMP:20260421T061908
CREATED:20231103T102727Z
LAST-MODIFIED:20231103T102907Z
UID:1951-1718496000-1718582399@nokkenwiel.nl
SUMMARY:Vaderdag
DESCRIPTION:
URL:https://nokkenwiel.nl/agenda/vaderdag/
END:VEVENT
BEGIN:VEVENT
DTSTART;VALUE=DATE:20240614
DTEND;VALUE=DATE:20240615
DTSTAMP:20260421T061908
CREATED:20231103T102710Z
LAST-MODIFIED:20231103T102710Z
UID:1949-1718323200-1718409599@nokkenwiel.nl
SUMMARY:Run-Swim-Run groepen 8
DESCRIPTION:
URL:https://nokkenwiel.nl/agenda/run-swim-run-groepen-8/
END:VEVENT
BEGIN:VEVENT
DTSTART;VALUE=DATE:20240603
DTEND;VALUE=DATE:20240604
DTSTAMP:20260421T061908
CREATED:20231103T102640Z
LAST-MODIFIED:20231103T102640Z
UID:1947-1717372800-1717459199@nokkenwiel.nl
SUMMARY:Start afname CITO
DESCRIPTION:
URL:https://nokkenwiel.nl/agenda/start-afname-cito-2/
END:VEVENT
BEGIN:VEVENT
DTSTART;VALUE=DATE:20240531
DTEND;VALUE=DATE:20240601
DTSTAMP:20260421T061908
CREATED:20231103T103859Z
LAST-MODIFIED:20231103T103859Z
UID:1989-1717113600-1717199999@nokkenwiel.nl
SUMMARY:Nieuwsbrief 10
DESCRIPTION:
URL:https://nokkenwiel.nl/agenda/nieuwsbrief-10/
END:VEVENT
BEGIN:VEVENT
DTSTART;VALUE=DATE:20240524
DTEND;VALUE=DATE:20240525
DTSTAMP:20260421T061908
CREATED:20231103T102550Z
LAST-MODIFIED:20231103T102550Z
UID:1945-1716508800-1716595199@nokkenwiel.nl
SUMMARY:Schoolreis groepen 1 t/m 7
DESCRIPTION:
URL:https://nokkenwiel.nl/agenda/schoolreis-groepen-1-t-m-7/
END:VEVENT
BEGIN:VEVENT
DTSTART;VALUE=DATE:20240520
DTEND;VALUE=DATE:20240521
DTSTAMP:20260421T061908
CREATED:20231103T102522Z
LAST-MODIFIED:20231103T102522Z
UID:1943-1716163200-1716249599@nokkenwiel.nl
SUMMARY:Tweede Pinksterdag
DESCRIPTION:
URL:https://nokkenwiel.nl/agenda/tweede-pinksterdag-4/
END:VEVENT
BEGIN:VEVENT
DTSTART;VALUE=DATE:20240519
DTEND;VALUE=DATE:20240520
DTSTAMP:20260421T061908
CREATED:20231103T102500Z
LAST-MODIFIED:20231103T102500Z
UID:1941-1716076800-1716163199@nokkenwiel.nl
SUMMARY:Eerste Pinksterdag
DESCRIPTION:
URL:https://nokkenwiel.nl/agenda/eerste-pinksterdag-3/
END:VEVENT
BEGIN:VEVENT
DTSTART;VALUE=DATE:20240513
DTEND;VALUE=DATE:20240514
DTSTAMP:20260421T061908
CREATED:20231103T102440Z
LAST-MODIFIED:20231103T102440Z
UID:1939-1715558400-1715644799@nokkenwiel.nl
SUMMARY:MR
DESCRIPTION:
URL:https://nokkenwiel.nl/agenda/mr-3/
END:VEVENT
BEGIN:VEVENT
DTSTART;VALUE=DATE:20240512
DTEND;VALUE=DATE:20240513
DTSTAMP:20260421T061908
CREATED:20231103T102413Z
LAST-MODIFIED:20231103T102413Z
UID:1937-1715472000-1715558399@nokkenwiel.nl
SUMMARY:Moederdag
DESCRIPTION:
URL:https://nokkenwiel.nl/agenda/moederdag/
END:VEVENT
END:VCALENDAR