BEGIN:VCALENDAR
VERSION:2.0
PRODID:-//Nokkenwiel - ECPv6.15.20//NONSGML v1.0//EN
CALSCALE:GREGORIAN
METHOD:PUBLISH
X-WR-CALNAME:Nokkenwiel
X-ORIGINAL-URL:https://nokkenwiel.nl
X-WR-CALDESC:Evenementen voor Nokkenwiel
REFRESH-INTERVAL;VALUE=DURATION:PT1H
X-Robots-Tag:noindex
X-PUBLISHED-TTL:PT1H
BEGIN:VTIMEZONE
TZID:Europe/Amsterdam
BEGIN:DAYLIGHT
TZOFFSETFROM:+0100
TZOFFSETTO:+0200
TZNAME:CEST
DTSTART:20230326T010000
END:DAYLIGHT
BEGIN:STANDARD
TZOFFSETFROM:+0200
TZOFFSETTO:+0100
TZNAME:CET
DTSTART:20231029T010000
END:STANDARD
BEGIN:DAYLIGHT
TZOFFSETFROM:+0100
TZOFFSETTO:+0200
TZNAME:CEST
DTSTART:20240331T010000
END:DAYLIGHT
BEGIN:STANDARD
TZOFFSETFROM:+0200
TZOFFSETTO:+0100
TZNAME:CET
DTSTART:20241027T010000
END:STANDARD
BEGIN:DAYLIGHT
TZOFFSETFROM:+0100
TZOFFSETTO:+0200
TZNAME:CEST
DTSTART:20250330T010000
END:DAYLIGHT
BEGIN:STANDARD
TZOFFSETFROM:+0200
TZOFFSETTO:+0100
TZNAME:CET
DTSTART:20251026T010000
END:STANDARD
BEGIN:DAYLIGHT
TZOFFSETFROM:+0100
TZOFFSETTO:+0200
TZNAME:CEST
DTSTART:20260329T010000
END:DAYLIGHT
BEGIN:STANDARD
TZOFFSETFROM:+0200
TZOFFSETTO:+0100
TZNAME:CET
DTSTART:20261025T010000
END:STANDARD
END:VTIMEZONE
BEGIN:VEVENT
DTSTART;VALUE=DATE:20250317
DTEND;VALUE=DATE:20250322
DTSTAMP:20260421T041206
CREATED:20240704T084838Z
LAST-MODIFIED:20240704T084838Z
UID:2181-1742169600-1742601599@nokkenwiel.nl
SUMMARY:Week van het Openbaar Onderwijs
DESCRIPTION:
URL:https://nokkenwiel.nl/agenda/rapport-mee-2-3-2/
END:VEVENT
BEGIN:VEVENT
DTSTART;VALUE=DATE:20250224
DTEND;VALUE=DATE:20250303
DTSTAMP:20260421T041206
CREATED:20240704T084303Z
LAST-MODIFIED:20240704T084303Z
UID:2179-1740355200-1740959999@nokkenwiel.nl
SUMMARY:Voorjaarsvakantie
DESCRIPTION:BSO/KDV in de vakantie open
URL:https://nokkenwiel.nl/agenda/kerstviering-2-3-3/
END:VEVENT
BEGIN:VEVENT
DTSTART;VALUE=DATE:20250221
DTEND;VALUE=DATE:20250222
DTSTAMP:20260421T041206
CREATED:20240704T084216Z
LAST-MODIFIED:20240704T084216Z
UID:2176-1740096000-1740182399@nokkenwiel.nl
SUMMARY:Nieuwsbrief 7
DESCRIPTION:
URL:https://nokkenwiel.nl/agenda/rapport-mee-2-3/
END:VEVENT
BEGIN:VEVENT
DTSTART;VALUE=DATE:20250221
DTEND;VALUE=DATE:20250222
DTSTAMP:20260421T041206
CREATED:20240704T084148Z
LAST-MODIFIED:20240704T084148Z
UID:2175-1740096000-1740182399@nokkenwiel.nl
SUMMARY:Studiedag
DESCRIPTION:Alle kinderen zijn vrij
URL:https://nokkenwiel.nl/agenda/rapport-mee-2-2/
END:VEVENT
BEGIN:VEVENT
DTSTART;VALUE=DATE:20250217
DTEND;VALUE=DATE:20250221
DTSTAMP:20260421T041206
CREATED:20240704T083730Z
LAST-MODIFIED:20240704T083749Z
UID:2168-1739750400-1740095999@nokkenwiel.nl
SUMMARY:Deze week rapportgesprekken
DESCRIPTION:
URL:https://nokkenwiel.nl/agenda/kerstviering-2-3-2-4-5-2-4/
END:VEVENT
BEGIN:VEVENT
DTSTART;VALUE=DATE:20250214
DTEND;VALUE=DATE:20250215
DTSTAMP:20260421T041206
CREATED:20240704T084032Z
LAST-MODIFIED:20240704T084032Z
UID:2169-1739491200-1739577599@nokkenwiel.nl
SUMMARY:Rapport mee
DESCRIPTION:
URL:https://nokkenwiel.nl/agenda/kerstviering-2-3-2-4-5-2-5/
END:VEVENT
BEGIN:VEVENT
DTSTART;VALUE=DATE:20250214
DTEND;VALUE=DATE:20250215
DTSTAMP:20260421T041206
CREATED:20240704T083718Z
LAST-MODIFIED:20240704T083718Z
UID:2167-1739491200-1739577599@nokkenwiel.nl
SUMMARY:Valentijnsdag
DESCRIPTION:
URL:https://nokkenwiel.nl/agenda/kerstviering-2-3-2-4-5-2-3/
END:VEVENT
BEGIN:VEVENT
DTSTART;VALUE=DATE:20250204
DTEND;VALUE=DATE:20250206
DTSTAMP:20260421T041206
CREATED:20240704T083706Z
LAST-MODIFIED:20240704T083706Z
UID:2166-1738627200-1738799999@nokkenwiel.nl
SUMMARY:Doorstroomtoets groepen 8
DESCRIPTION:
URL:https://nokkenwiel.nl/agenda/kerstviering-2-3-2-4-5-2-2/
END:VEVENT
BEGIN:VEVENT
DTSTART;VALUE=DATE:20250203
DTEND;VALUE=DATE:20250204
DTSTAMP:20260421T041206
CREATED:20240704T083624Z
LAST-MODIFIED:20240704T083624Z
UID:2164-1738540800-1738627199@nokkenwiel.nl
SUMMARY:MR
DESCRIPTION:
URL:https://nokkenwiel.nl/agenda/kerstviering-2-3-2-4-5-2/
END:VEVENT
BEGIN:VEVENT
DTSTART;VALUE=DATE:20250131
DTEND;VALUE=DATE:20250201
DTSTAMP:20260421T041206
CREATED:20240704T083550Z
LAST-MODIFIED:20240704T083550Z
UID:2159-1738281600-1738367999@nokkenwiel.nl
SUMMARY:Nieuwsbrief 6
DESCRIPTION:
URL:https://nokkenwiel.nl/agenda/kerstviering-2-3-2-4-5/
END:VEVENT
BEGIN:VEVENT
DTSTART;VALUE=DATE:20250131
DTEND;VALUE=DATE:20250201
DTSTAMP:20260421T041206
CREATED:20240704T083539Z
LAST-MODIFIED:20240704T083539Z
UID:2158-1738281600-1738367999@nokkenwiel.nl
SUMMARY:Einde afname CITO
DESCRIPTION:
URL:https://nokkenwiel.nl/agenda/kerstviering-2-3-2-4-4/
END:VEVENT
BEGIN:VEVENT
DTSTART;VALUE=DATE:20250127
DTEND;VALUE=DATE:20250201
DTSTAMP:20260421T041206
CREATED:20240704T083525Z
LAST-MODIFIED:20240704T083525Z
UID:2157-1737936000-1738367999@nokkenwiel.nl
SUMMARY:Deze week adviesgesprekken groep 8
DESCRIPTION:
URL:https://nokkenwiel.nl/agenda/kerstviering-2-3-2-4-3/
END:VEVENT
BEGIN:VEVENT
DTSTART;VALUE=DATE:20250117
DTEND;VALUE=DATE:20250118
DTSTAMP:20260421T041206
CREATED:20240704T083500Z
LAST-MODIFIED:20240704T083500Z
UID:2156-1737072000-1737158399@nokkenwiel.nl
SUMMARY:Leerlingenraad
DESCRIPTION:
URL:https://nokkenwiel.nl/agenda/kerstviering-2-3-2-4-2/
END:VEVENT
BEGIN:VEVENT
DTSTART;VALUE=DATE:20250113
DTEND;VALUE=DATE:20250114
DTSTAMP:20260421T041206
CREATED:20240704T083437Z
LAST-MODIFIED:20240704T083437Z
UID:2154-1736726400-1736812799@nokkenwiel.nl
SUMMARY:Start afname CITO
DESCRIPTION:
URL:https://nokkenwiel.nl/agenda/kerstviering-2-3-2-4/
END:VEVENT
BEGIN:VEVENT
DTSTART;VALUE=DATE:20250101
DTEND;VALUE=DATE:20250102
DTSTAMP:20260421T041206
CREATED:20240704T083347Z
LAST-MODIFIED:20240704T083347Z
UID:2152-1735689600-1735775999@nokkenwiel.nl
SUMMARY:Nieuwjaarsdag
DESCRIPTION:
URL:https://nokkenwiel.nl/agenda/kerstviering-2-3-2-3/
END:VEVENT
BEGIN:VEVENT
DTSTART;VALUE=DATE:20241226
DTEND;VALUE=DATE:20241227
DTSTAMP:20260421T041206
CREATED:20240704T083321Z
LAST-MODIFIED:20240704T083321Z
UID:2150-1735171200-1735257599@nokkenwiel.nl
SUMMARY:Tweede Kerstdag
DESCRIPTION:
URL:https://nokkenwiel.nl/agenda/kerstviering-2-3-2-2/
END:VEVENT
BEGIN:VEVENT
DTSTART;VALUE=DATE:20241225
DTEND;VALUE=DATE:20241226
DTSTAMP:20260421T041206
CREATED:20240704T083307Z
LAST-MODIFIED:20240704T083307Z
UID:2148-1735084800-1735171199@nokkenwiel.nl
SUMMARY:Eerste Kerstdag
DESCRIPTION:
URL:https://nokkenwiel.nl/agenda/kerstviering-2-3-2/
END:VEVENT
BEGIN:VEVENT
DTSTART;VALUE=DATE:20241223
DTEND;VALUE=DATE:20250106
DTSTAMP:20260421T041206
CREATED:20240704T083242Z
LAST-MODIFIED:20240704T083242Z
UID:2146-1734912000-1736121599@nokkenwiel.nl
SUMMARY:Kerstvakantie
DESCRIPTION:BSO/KDV in de vakantie open
URL:https://nokkenwiel.nl/agenda/kerstviering-2-3/
END:VEVENT
BEGIN:VEVENT
DTSTART;VALUE=DATE:20241220
DTEND;VALUE=DATE:20241221
DTSTAMP:20260421T041206
CREATED:20240704T083146Z
LAST-MODIFIED:20240704T083146Z
UID:2144-1734652800-1734739199@nokkenwiel.nl
SUMMARY:Nieuwsbrief 5
DESCRIPTION:
URL:https://nokkenwiel.nl/agenda/kerstviering-2-2/
END:VEVENT
BEGIN:VEVENT
DTSTART;VALUE=DATE:20241220
DTEND;VALUE=DATE:20241221
DTSTAMP:20260421T041206
CREATED:20240704T083129Z
LAST-MODIFIED:20240704T083129Z
UID:2142-1734652800-1734739199@nokkenwiel.nl
SUMMARY:Middag vrij vanaf 12:30 uur
DESCRIPTION:
URL:https://nokkenwiel.nl/agenda/kerstviering-2/
END:VEVENT
BEGIN:VEVENT
DTSTART;VALUE=DATE:20241219
DTEND;VALUE=DATE:20241220
DTSTAMP:20260421T041206
CREATED:20240704T083031Z
LAST-MODIFIED:20240704T083031Z
UID:2140-1734566400-1734652799@nokkenwiel.nl
SUMMARY:Kerstviering
DESCRIPTION:
URL:https://nokkenwiel.nl/agenda/kerstviering/
END:VEVENT
BEGIN:VEVENT
DTSTART;VALUE=DATE:20241206
DTEND;VALUE=DATE:20241207
DTSTAMP:20260421T041206
CREATED:20240704T082842Z
LAST-MODIFIED:20240704T082842Z
UID:2138-1733443200-1733529599@nokkenwiel.nl
SUMMARY:Knutselcircuit Kerst in de middag
DESCRIPTION:
URL:https://nokkenwiel.nl/agenda/knutselcircuit-sinterklaas-in-de-middag-2/
END:VEVENT
BEGIN:VEVENT
DTSTART;VALUE=DATE:20241205
DTEND;VALUE=DATE:20241206
DTSTAMP:20260421T041206
CREATED:20240704T082818Z
LAST-MODIFIED:20240704T082818Z
UID:2136-1733356800-1733443199@nokkenwiel.nl
SUMMARY:Sinterklaasviering - Middag vrij vanaf 12:30 uur
DESCRIPTION:
URL:https://nokkenwiel.nl/agenda/sinterklaasviering-middag-vrij-vanaf-1230-uur/
END:VEVENT
BEGIN:VEVENT
DTSTART;VALUE=DATE:20241129
DTEND;VALUE=DATE:20241130
DTSTAMP:20260421T041206
CREATED:20240704T082714Z
LAST-MODIFIED:20240704T082714Z
UID:2134-1732838400-1732924799@nokkenwiel.nl
SUMMARY:Nieuwsbrief 4
DESCRIPTION:
URL:https://nokkenwiel.nl/agenda/nieuwsbrief-4-2/
END:VEVENT
BEGIN:VEVENT
DTSTART;VALUE=DATE:20241125
DTEND;VALUE=DATE:20241126
DTSTAMP:20260421T041206
CREATED:20240704T082656Z
LAST-MODIFIED:20240704T082656Z
UID:2132-1732492800-1732579199@nokkenwiel.nl
SUMMARY:MR/OC
DESCRIPTION:Thema: Ouderbetrokkenheid/IKC-raad
URL:https://nokkenwiel.nl/agenda/mr-oc/
END:VEVENT
BEGIN:VEVENT
DTSTART;VALUE=DATE:20241122
DTEND;VALUE=DATE:20241123
DTSTAMP:20260421T041206
CREATED:20240704T082553Z
LAST-MODIFIED:20240704T082553Z
UID:2130-1732233600-1732319999@nokkenwiel.nl
SUMMARY:Knutselcircuit Sinterklaas in de middag
DESCRIPTION:
URL:https://nokkenwiel.nl/agenda/knutselcircuit-sinterklaas-in-de-middag/
END:VEVENT
BEGIN:VEVENT
DTSTART;VALUE=DATE:20241122
DTEND;VALUE=DATE:20241123
DTSTAMP:20260421T041206
CREATED:20240704T082526Z
LAST-MODIFIED:20240704T082526Z
UID:2128-1732233600-1732319999@nokkenwiel.nl
SUMMARY:Leerlingenraad
DESCRIPTION:
URL:https://nokkenwiel.nl/agenda/leerlingenraad-2/
END:VEVENT
BEGIN:VEVENT
DTSTART;VALUE=DATE:20241118
DTEND;VALUE=DATE:20241119
DTSTAMP:20260421T041206
CREATED:20240704T082501Z
LAST-MODIFIED:20240704T082501Z
UID:2126-1731888000-1731974399@nokkenwiel.nl
SUMMARY:Lootjes trekken Groepen 5-8
DESCRIPTION:
URL:https://nokkenwiel.nl/agenda/lootjes-trekken-groepen-5-8/
END:VEVENT
BEGIN:VEVENT
DTSTART;VALUE=DATE:20241116
DTEND;VALUE=DATE:20241117
DTSTAMP:20260421T041206
CREATED:20240704T082431Z
LAST-MODIFIED:20240704T082431Z
UID:2124-1731715200-1731801599@nokkenwiel.nl
SUMMARY:Intocht Sinterklaas
DESCRIPTION:
URL:https://nokkenwiel.nl/agenda/intocht-sinterklaas-2/
END:VEVENT
BEGIN:VEVENT
DTSTART;VALUE=DATE:20241115
DTEND;VALUE=DATE:20241116
DTSTAMP:20260421T041206
CREATED:20240704T082351Z
LAST-MODIFIED:20240704T082416Z
UID:2122-1731628800-1731715199@nokkenwiel.nl
SUMMARY:Studiedag
DESCRIPTION:Alle kinderen zijn vrij
URL:https://nokkenwiel.nl/agenda/studiedag-3/
END:VEVENT
END:VCALENDAR