BEGIN:VCALENDAR
VERSION:2.0
PRODID:-//Nokkenwiel - ECPv6.15.20//NONSGML v1.0//EN
CALSCALE:GREGORIAN
METHOD:PUBLISH
X-WR-CALNAME:Nokkenwiel
X-ORIGINAL-URL:https://nokkenwiel.nl
X-WR-CALDESC:Evenementen voor Nokkenwiel
REFRESH-INTERVAL;VALUE=DURATION:PT1H
X-Robots-Tag:noindex
X-PUBLISHED-TTL:PT1H
BEGIN:VTIMEZONE
TZID:UTC
BEGIN:STANDARD
TZOFFSETFROM:+0000
TZOFFSETTO:+0000
TZNAME:UTC
DTSTART:20190101T000000
END:STANDARD
END:VTIMEZONE
BEGIN:VEVENT
DTSTART;VALUE=DATE:20200915
DTEND;VALUE=DATE:20200917
DTSTAMP:20260422T031748
CREATED:20210712T111935Z
LAST-MODIFIED:20210712T111935Z
UID:1143-1600128000-1600300799@nokkenwiel.nl
SUMMARY:Prinsjesdag
DESCRIPTION:
URL:https://nokkenwiel.nl/agenda/prinsjesdag-2/
END:VEVENT
BEGIN:VEVENT
DTSTART;VALUE=DATE:20200601
DTEND;VALUE=DATE:20200603
DTSTAMP:20260422T031748
CREATED:20210712T111935Z
LAST-MODIFIED:20210712T111935Z
UID:1145-1590969600-1591142399@nokkenwiel.nl
SUMMARY:Tweede Pinksterdag
DESCRIPTION:
URL:https://nokkenwiel.nl/agenda/tweede-pinksterdag-3/
END:VEVENT
BEGIN:VEVENT
DTSTART;VALUE=DATE:20200412
DTEND;VALUE=DATE:20200414
DTSTAMP:20260422T031748
CREATED:20210712T111910Z
LAST-MODIFIED:20210712T111910Z
UID:1137-1586649600-1586822399@nokkenwiel.nl
SUMMARY:Eerste Paasdag
DESCRIPTION:
URL:https://nokkenwiel.nl/agenda/eerste-paasdag-2/
END:VEVENT
END:VCALENDAR