BEGIN:VCALENDAR
VERSION:2.0
PRODID:-//Nokkenwiel - ECPv6.15.20//NONSGML v1.0//EN
CALSCALE:GREGORIAN
METHOD:PUBLISH
X-WR-CALNAME:Nokkenwiel
X-ORIGINAL-URL:https://nokkenwiel.nl
X-WR-CALDESC:Evenementen voor Nokkenwiel
REFRESH-INTERVAL;VALUE=DURATION:PT1H
X-Robots-Tag:noindex
X-PUBLISHED-TTL:PT1H
BEGIN:VTIMEZONE
TZID:Europe/Amsterdam
BEGIN:DAYLIGHT
TZOFFSETFROM:+0100
TZOFFSETTO:+0200
TZNAME:CEST
DTSTART:20230326T010000
END:DAYLIGHT
BEGIN:STANDARD
TZOFFSETFROM:+0200
TZOFFSETTO:+0100
TZNAME:CET
DTSTART:20231029T010000
END:STANDARD
BEGIN:DAYLIGHT
TZOFFSETFROM:+0100
TZOFFSETTO:+0200
TZNAME:CEST
DTSTART:20240331T010000
END:DAYLIGHT
BEGIN:STANDARD
TZOFFSETFROM:+0200
TZOFFSETTO:+0100
TZNAME:CET
DTSTART:20241027T010000
END:STANDARD
BEGIN:DAYLIGHT
TZOFFSETFROM:+0100
TZOFFSETTO:+0200
TZNAME:CEST
DTSTART:20250330T010000
END:DAYLIGHT
BEGIN:STANDARD
TZOFFSETFROM:+0200
TZOFFSETTO:+0100
TZNAME:CET
DTSTART:20251026T010000
END:STANDARD
END:VTIMEZONE
BEGIN:VEVENT
DTSTART;VALUE=DATE:20241122
DTEND;VALUE=DATE:20241123
DTSTAMP:20260421T061909
CREATED:20240704T082553Z
LAST-MODIFIED:20240704T082553Z
UID:2130-1732233600-1732319999@nokkenwiel.nl
SUMMARY:Knutselcircuit Sinterklaas in de middag
DESCRIPTION:
URL:https://nokkenwiel.nl/agenda/knutselcircuit-sinterklaas-in-de-middag/
END:VEVENT
BEGIN:VEVENT
DTSTART;VALUE=DATE:20241122
DTEND;VALUE=DATE:20241123
DTSTAMP:20260421T061909
CREATED:20240704T082526Z
LAST-MODIFIED:20240704T082526Z
UID:2128-1732233600-1732319999@nokkenwiel.nl
SUMMARY:Leerlingenraad
DESCRIPTION:
URL:https://nokkenwiel.nl/agenda/leerlingenraad-2/
END:VEVENT
BEGIN:VEVENT
DTSTART;VALUE=DATE:20241118
DTEND;VALUE=DATE:20241119
DTSTAMP:20260421T061909
CREATED:20240704T082501Z
LAST-MODIFIED:20240704T082501Z
UID:2126-1731888000-1731974399@nokkenwiel.nl
SUMMARY:Lootjes trekken Groepen 5-8
DESCRIPTION:
URL:https://nokkenwiel.nl/agenda/lootjes-trekken-groepen-5-8/
END:VEVENT
BEGIN:VEVENT
DTSTART;VALUE=DATE:20241116
DTEND;VALUE=DATE:20241117
DTSTAMP:20260421T061909
CREATED:20240704T082431Z
LAST-MODIFIED:20240704T082431Z
UID:2124-1731715200-1731801599@nokkenwiel.nl
SUMMARY:Intocht Sinterklaas
DESCRIPTION:
URL:https://nokkenwiel.nl/agenda/intocht-sinterklaas-2/
END:VEVENT
BEGIN:VEVENT
DTSTART;VALUE=DATE:20241115
DTEND;VALUE=DATE:20241116
DTSTAMP:20260421T061909
CREATED:20240704T082351Z
LAST-MODIFIED:20240704T082416Z
UID:2122-1731628800-1731715199@nokkenwiel.nl
SUMMARY:Studiedag
DESCRIPTION:Alle kinderen zijn vrij
URL:https://nokkenwiel.nl/agenda/studiedag-3/
END:VEVENT
BEGIN:VEVENT
DTSTART;VALUE=DATE:20241111
DTEND;VALUE=DATE:20241116
DTSTAMP:20260421T061909
CREATED:20240704T082301Z
LAST-MODIFIED:20240704T082301Z
UID:2120-1731283200-1731715199@nokkenwiel.nl
SUMMARY:Week van de mediawijsheid
DESCRIPTION:
URL:https://nokkenwiel.nl/agenda/week-van-de-mediawijsheid/
END:VEVENT
BEGIN:VEVENT
DTSTART;VALUE=DATE:20241111
DTEND;VALUE=DATE:20241112
DTSTAMP:20260421T061909
CREATED:20240704T082229Z
LAST-MODIFIED:20240704T082229Z
UID:2118-1731283200-1731369599@nokkenwiel.nl
SUMMARY:Deze week inloopochtend op afspraak
DESCRIPTION:
URL:https://nokkenwiel.nl/agenda/deze-week-inloopochtend-op-afspraak-3/
END:VEVENT
BEGIN:VEVENT
DTSTART;VALUE=DATE:20241028
DTEND;VALUE=DATE:20241104
DTSTAMP:20260421T061909
CREATED:20240704T082134Z
LAST-MODIFIED:20240704T082134Z
UID:2116-1730073600-1730678399@nokkenwiel.nl
SUMMARY:Herfstvakantie
DESCRIPTION:
URL:https://nokkenwiel.nl/agenda/herfstvakantie/
END:VEVENT
BEGIN:VEVENT
DTSTART;VALUE=DATE:20241025
DTEND;VALUE=DATE:20241026
DTSTAMP:20260421T061909
CREATED:20240704T082031Z
LAST-MODIFIED:20240704T082031Z
UID:2114-1729814400-1729900799@nokkenwiel.nl
SUMMARY:Nieuwsbrief 3
DESCRIPTION:
URL:https://nokkenwiel.nl/agenda/nieuwsbrief-3/
END:VEVENT
BEGIN:VEVENT
DTSTART;VALUE=DATE:20241021
DTEND;VALUE=DATE:20241022
DTSTAMP:20260421T061909
CREATED:20240704T082012Z
LAST-MODIFIED:20240704T082012Z
UID:2112-1729468800-1729555199@nokkenwiel.nl
SUMMARY:Studiedag
DESCRIPTION:
URL:https://nokkenwiel.nl/agenda/studiedag-2/
END:VEVENT
BEGIN:VEVENT
DTSTART;VALUE=DATE:20241016
DTEND;VALUE=DATE:20241017
DTSTAMP:20260421T061909
CREATED:20240704T081909Z
LAST-MODIFIED:20240704T081947Z
UID:2108-1729036800-1729123199@nokkenwiel.nl
SUMMARY:Studiemiddag (v.a. 12:30 uur)
DESCRIPTION:Kinderen zijn vanaf 12:30 uur vrij
URL:https://nokkenwiel.nl/agenda/studiemiddag/
END:VEVENT
BEGIN:VEVENT
DTSTART;VALUE=DATE:20241014
DTEND;VALUE=DATE:20241019
DTSTAMP:20260421T061909
CREATED:20240704T081806Z
LAST-MODIFIED:20240704T081806Z
UID:2106-1728864000-1729295999@nokkenwiel.nl
SUMMARY:Gouden weken
DESCRIPTION:
URL:https://nokkenwiel.nl/agenda/gouden-weken-2/
END:VEVENT
BEGIN:VEVENT
DTSTART;VALUE=DATE:20241007
DTEND;VALUE=DATE:20241012
DTSTAMP:20260421T061909
CREATED:20240704T081752Z
LAST-MODIFIED:20240704T081752Z
UID:2104-1728259200-1728691199@nokkenwiel.nl
SUMMARY:Gouden weken
DESCRIPTION:
URL:https://nokkenwiel.nl/agenda/gouden-weken/
END:VEVENT
BEGIN:VEVENT
DTSTART;VALUE=DATE:20241007
DTEND;VALUE=DATE:20241012
DTSTAMP:20260421T061909
CREATED:20240704T081641Z
LAST-MODIFIED:20240704T081641Z
UID:2100-1728259200-1728691199@nokkenwiel.nl
SUMMARY:Kinderboekenweek
DESCRIPTION:Thema: “Lekker eigenwijs”
URL:https://nokkenwiel.nl/agenda/kinderboekenweek-2/
END:VEVENT
BEGIN:VEVENT
DTSTART;VALUE=DATE:20241005
DTEND;VALUE=DATE:20241006
DTSTAMP:20260421T061909
CREATED:20240704T081723Z
LAST-MODIFIED:20240704T081723Z
UID:2102-1728086400-1728172799@nokkenwiel.nl
SUMMARY:Dag van de leerkracht
DESCRIPTION:
URL:https://nokkenwiel.nl/agenda/dag-van-de-leerkracht/
END:VEVENT
BEGIN:VEVENT
DTSTART;VALUE=DATE:20241002
DTEND;VALUE=DATE:20241005
DTSTAMP:20260421T061909
CREATED:20240704T081553Z
LAST-MODIFIED:20240704T081655Z
UID:2098-1727827200-1728086399@nokkenwiel.nl
SUMMARY:Kinderboekenweek
DESCRIPTION:Thema: “Lekker eigenwijs”
URL:https://nokkenwiel.nl/agenda/kinderboekenweek/
END:VEVENT
BEGIN:VEVENT
DTSTART;VALUE=DATE:20241001
DTEND;VALUE=DATE:20241002
DTSTAMP:20260421T061909
CREATED:20240704T081508Z
LAST-MODIFIED:20240704T081508Z
UID:2096-1727740800-1727827199@nokkenwiel.nl
SUMMARY:Dag van de IKC-medewerker
DESCRIPTION:
URL:https://nokkenwiel.nl/agenda/dag-van-de-ikc-medewerker/
END:VEVENT
BEGIN:VEVENT
DTSTART;VALUE=DATE:20240930
DTEND;VALUE=DATE:20241001
DTSTAMP:20260421T061909
CREATED:20240704T081344Z
LAST-MODIFIED:20240704T081344Z
UID:2090-1727654400-1727740799@nokkenwiel.nl
SUMMARY:MR
DESCRIPTION:
URL:https://nokkenwiel.nl/agenda/mr-4/
END:VEVENT
BEGIN:VEVENT
DTSTART;VALUE=DATE:20240927
DTEND;VALUE=DATE:20240928
DTSTAMP:20260421T061909
CREATED:20240704T081440Z
LAST-MODIFIED:20240704T081440Z
UID:2094-1727395200-1727481599@nokkenwiel.nl
SUMMARY:Nieuwsbrief 2
DESCRIPTION:
URL:https://nokkenwiel.nl/agenda/nieuwsbrief-2/
END:VEVENT
BEGIN:VEVENT
DTSTART;VALUE=DATE:20240923
DTEND;VALUE=DATE:20240928
DTSTAMP:20260421T061909
CREATED:20240704T081253Z
LAST-MODIFIED:20240704T081253Z
UID:2088-1727049600-1727481599@nokkenwiel.nl
SUMMARY:Gouden weken
DESCRIPTION:
URL:https://nokkenwiel.nl/agenda/week-van-klassenkracht-gouden-weken-2-2-2/
END:VEVENT
BEGIN:VEVENT
DTSTART;VALUE=DATE:20240920
DTEND;VALUE=DATE:20240921
DTSTAMP:20260421T061909
CREATED:20240704T081214Z
LAST-MODIFIED:20240704T081214Z
UID:2086-1726790400-1726876799@nokkenwiel.nl
SUMMARY:Leerlingenraad
DESCRIPTION:
URL:https://nokkenwiel.nl/agenda/leerlingenraad/
END:VEVENT
BEGIN:VEVENT
DTSTART;VALUE=DATE:20240919
DTEND;VALUE=DATE:20240920
DTSTAMP:20260421T061909
CREATED:20240704T081147Z
LAST-MODIFIED:20240704T081147Z
UID:2084-1726704000-1726790399@nokkenwiel.nl
SUMMARY:Dag van de pedagogisch medewerker
DESCRIPTION:
URL:https://nokkenwiel.nl/agenda/dag-van-de-pedagogisch-medewerker/
END:VEVENT
BEGIN:VEVENT
DTSTART;VALUE=DATE:20240917
DTEND;VALUE=DATE:20240921
DTSTAMP:20260421T061909
CREATED:20240704T081045Z
LAST-MODIFIED:20240704T081045Z
UID:2082-1726531200-1726876799@nokkenwiel.nl
SUMMARY:Schoolfotograaf
DESCRIPTION:
URL:https://nokkenwiel.nl/agenda/schoolfotograaf/
END:VEVENT
BEGIN:VEVENT
DTSTART;VALUE=DATE:20240916
DTEND;VALUE=DATE:20240917
DTSTAMP:20260421T061909
CREATED:20240704T080956Z
LAST-MODIFIED:20240704T080956Z
UID:2080-1726444800-1726531199@nokkenwiel.nl
SUMMARY:Studiedag
DESCRIPTION:Alle kinderen zijn vrij
URL:https://nokkenwiel.nl/agenda/studiedag/
END:VEVENT
BEGIN:VEVENT
DTSTART;VALUE=DATE:20240909
DTEND;VALUE=DATE:20240914
DTSTAMP:20260421T061909
CREATED:20240704T080858Z
LAST-MODIFIED:20240704T080858Z
UID:2078-1725840000-1726271999@nokkenwiel.nl
SUMMARY:Deze week Startgesprekken
DESCRIPTION:
URL:https://nokkenwiel.nl/agenda/deze-week-startgesprekken/
END:VEVENT
BEGIN:VEVENT
DTSTART;VALUE=DATE:20240909
DTEND;VALUE=DATE:20240914
DTSTAMP:20260421T061909
CREATED:20240704T080800Z
LAST-MODIFIED:20240704T080810Z
UID:2075-1725840000-1726271999@nokkenwiel.nl
SUMMARY:Gouden weken
DESCRIPTION:
URL:https://nokkenwiel.nl/agenda/week-van-klassenkracht-gouden-weken-2-2/
END:VEVENT
BEGIN:VEVENT
DTSTART;VALUE=DATE:20240902
DTEND;VALUE=DATE:20240907
DTSTAMP:20260421T061909
CREATED:20240704T080734Z
LAST-MODIFIED:20240704T080734Z
UID:2073-1725235200-1725667199@nokkenwiel.nl
SUMMARY:Week van Klasse(n)kracht / Gouden weken
DESCRIPTION:
URL:https://nokkenwiel.nl/agenda/week-van-klassenkracht-gouden-weken-2/
END:VEVENT
BEGIN:VEVENT
DTSTART;VALUE=DATE:20240826
DTEND;VALUE=DATE:20240831
DTSTAMP:20260421T061909
CREATED:20240704T080708Z
LAST-MODIFIED:20240704T080708Z
UID:2071-1724630400-1725062399@nokkenwiel.nl
SUMMARY:Week van Klasse(n)kracht / Gouden weken
DESCRIPTION:
URL:https://nokkenwiel.nl/agenda/week-van-klassenkracht-gouden-weken/
END:VEVENT
BEGIN:VEVENT
DTSTART;VALUE=DATE:20240826
DTEND;VALUE=DATE:20240827
DTSTAMP:20260421T061909
CREATED:20240704T080450Z
LAST-MODIFIED:20240704T080606Z
UID:2069-1724630400-1724716799@nokkenwiel.nl
SUMMARY:Eerste schooldag
DESCRIPTION:
URL:https://nokkenwiel.nl/agenda/eerste-schooldag/
END:VEVENT
BEGIN:VEVENT
DTSTART;VALUE=DATE:20240823
DTEND;VALUE=DATE:20240824
DTSTAMP:20260421T061909
CREATED:20240704T081407Z
LAST-MODIFIED:20240704T081407Z
UID:2092-1724371200-1724457599@nokkenwiel.nl
SUMMARY:Nieuwsbrief 1
DESCRIPTION:
URL:https://nokkenwiel.nl/agenda/nieuwsbrief-1/
END:VEVENT
END:VCALENDAR